BEGIN:VCALENDAR
VERSION:2.0
PRODID:-//WJTL FM 90.3 - Christ. Community. Music. - ECPv6.15.20//NONSGML v1.0//EN
CALSCALE:GREGORIAN
METHOD:PUBLISH
X-ORIGINAL-URL:https://wjtl.com
X-WR-CALDESC:Events for WJTL FM 90.3 - Christ. Community. Music.
REFRESH-INTERVAL;VALUE=DURATION:PT1H
X-Robots-Tag:noindex
X-PUBLISHED-TTL:PT1H
BEGIN:VTIMEZONE
TZID:America/New_York
BEGIN:DAYLIGHT
TZOFFSETFROM:-0500
TZOFFSETTO:-0400
TZNAME:EDT
DTSTART:20240310T070000
END:DAYLIGHT
BEGIN:STANDARD
TZOFFSETFROM:-0400
TZOFFSETTO:-0500
TZNAME:EST
DTSTART:20241103T060000
END:STANDARD
BEGIN:DAYLIGHT
TZOFFSETFROM:-0500
TZOFFSETTO:-0400
TZNAME:EDT
DTSTART:20250309T070000
END:DAYLIGHT
BEGIN:STANDARD
TZOFFSETFROM:-0400
TZOFFSETTO:-0500
TZNAME:EST
DTSTART:20251102T060000
END:STANDARD
BEGIN:DAYLIGHT
TZOFFSETFROM:-0500
TZOFFSETTO:-0400
TZNAME:EDT
DTSTART:20260308T070000
END:DAYLIGHT
BEGIN:STANDARD
TZOFFSETFROM:-0400
TZOFFSETTO:-0500
TZNAME:EST
DTSTART:20261101T060000
END:STANDARD
END:VTIMEZONE
BEGIN:VEVENT
DTSTART;TZID=America/New_York:20250503T060000
DTEND;TZID=America/New_York:20250503T100000
DTSTAMP:20260421T145005
CREATED:20250415T132431Z
LAST-MODIFIED:20250415T132431Z
UID:10031044-1746252000-1746266400@wjtl.com
SUMMARY:Strawberry and Waffle Breakfast
DESCRIPTION:Ruhl’s Church is hosting an All You Can Eat Strawberry and Waffle Breakfast. Other menu items include pancakes\, eggs\, breakfast casseroles\, bacon\, sausage\, home fried potatoes and assorted beverages. Cost is $14 for adults and $6 for children 5-12 years old. Proceeds benefit a missions trip to North Carolina.
URL:https://wjtl.com/event/strawberry-and-waffle-breakfast/
LOCATION:Ruhl’s Church\, 4810 Elizabethtown Rd\, Manheim\, PA\, 17545\, United States
CATEGORIES:Community Events
END:VEVENT
END:VCALENDAR