BEGIN:VCALENDAR
VERSION:2.0
PRODID:-//WJTL FM 90.3 - Christ. Community. Music. - ECPv6.15.20//NONSGML v1.0//EN
CALSCALE:GREGORIAN
METHOD:PUBLISH
X-ORIGINAL-URL:https://wjtl.com
X-WR-CALDESC:Events for WJTL FM 90.3 - Christ. Community. Music.
REFRESH-INTERVAL;VALUE=DURATION:PT1H
X-Robots-Tag:noindex
X-PUBLISHED-TTL:PT1H
BEGIN:VTIMEZONE
TZID:America/New_York
BEGIN:DAYLIGHT
TZOFFSETFROM:-0500
TZOFFSETTO:-0400
TZNAME:EDT
DTSTART:20240310T070000
END:DAYLIGHT
BEGIN:STANDARD
TZOFFSETFROM:-0400
TZOFFSETTO:-0500
TZNAME:EST
DTSTART:20241103T060000
END:STANDARD
BEGIN:DAYLIGHT
TZOFFSETFROM:-0500
TZOFFSETTO:-0400
TZNAME:EDT
DTSTART:20250309T070000
END:DAYLIGHT
BEGIN:STANDARD
TZOFFSETFROM:-0400
TZOFFSETTO:-0500
TZNAME:EST
DTSTART:20251102T060000
END:STANDARD
BEGIN:DAYLIGHT
TZOFFSETFROM:-0500
TZOFFSETTO:-0400
TZNAME:EDT
DTSTART:20260308T070000
END:DAYLIGHT
BEGIN:STANDARD
TZOFFSETFROM:-0400
TZOFFSETTO:-0500
TZNAME:EST
DTSTART:20261101T060000
END:STANDARD
END:VTIMEZONE
BEGIN:VEVENT
DTSTART;TZID=America/New_York:20250801T180000
DTEND;TZID=America/New_York:20250801T200000
DTSTAMP:20260423T210845
CREATED:20250707T161116Z
LAST-MODIFIED:20250707T161116Z
UID:10034034-1754071200-1754078400@wjtl.com
SUMMARY:Vacation Bible School- Red Lion
DESCRIPTION:Howdy y’all! Arlington EC Church (in Red Lion\, PA) will be hosting a 3-day VBS program\, for ages 5-10. It will run from Wednesday\, July 30\, 2025 to Friday\, August 1st. Then on Saturday\, August 2nd\, we will have our campfire and movie night.\n\nThis Vacation Bible School program will take you through a series of Bible stories that highlight characters who were “outlaws\,” defying norms (and sometimes even laws!) if that’s what it took to follow God and hold fast to righteousness. And just wait until we meet the surprising ultimate rebel of the Bible…. (Spoiler alert: He happens to be God’s son!) For more details and to preregister please visit\, https://www.arlingtonec.org/vbs2025/ Sign up today.
URL:https://wjtl.com/event/vacation-bible-school-red-lion/2025-08-01/
LOCATION:Arlington EC Church Red Lion\, 585 Lombard Road\, Red Lion\, PA\, 17356\, United States
CATEGORIES:Community Events
END:VEVENT
BEGIN:VEVENT
DTSTART;TZID=America/New_York:20250731T180000
DTEND;TZID=America/New_York:20250731T200000
DTSTAMP:20260423T210845
CREATED:20250707T161116Z
LAST-MODIFIED:20250707T161116Z
UID:10034033-1753984800-1753992000@wjtl.com
SUMMARY:Vacation Bible School- Red Lion
DESCRIPTION:Howdy y’all! Arlington EC Church (in Red Lion\, PA) will be hosting a 3-day VBS program\, for ages 5-10. It will run from Wednesday\, July 30\, 2025 to Friday\, August 1st. Then on Saturday\, August 2nd\, we will have our campfire and movie night.\n\nThis Vacation Bible School program will take you through a series of Bible stories that highlight characters who were “outlaws\,” defying norms (and sometimes even laws!) if that’s what it took to follow God and hold fast to righteousness. And just wait until we meet the surprising ultimate rebel of the Bible…. (Spoiler alert: He happens to be God’s son!) For more details and to preregister please visit\, https://www.arlingtonec.org/vbs2025/ Sign up today.
URL:https://wjtl.com/event/vacation-bible-school-red-lion/2025-07-31/
LOCATION:Arlington EC Church Red Lion\, 585 Lombard Road\, Red Lion\, PA\, 17356\, United States
CATEGORIES:Community Events
END:VEVENT
BEGIN:VEVENT
DTSTART;TZID=America/New_York:20250730T180000
DTEND;TZID=America/New_York:20250730T200000
DTSTAMP:20260423T210845
CREATED:20250707T161116Z
LAST-MODIFIED:20250707T161116Z
UID:10034032-1753898400-1753905600@wjtl.com
SUMMARY:Vacation Bible School- Red Lion
DESCRIPTION:Howdy y’all! Arlington EC Church (in Red Lion\, PA) will be hosting a 3-day VBS program\, for ages 5-10. It will run from Wednesday\, July 30\, 2025 to Friday\, August 1st. Then on Saturday\, August 2nd\, we will have our campfire and movie night.\n\nThis Vacation Bible School program will take you through a series of Bible stories that highlight characters who were “outlaws\,” defying norms (and sometimes even laws!) if that’s what it took to follow God and hold fast to righteousness. And just wait until we meet the surprising ultimate rebel of the Bible…. (Spoiler alert: He happens to be God’s son!) For more details and to preregister please visit\, https://www.arlingtonec.org/vbs2025/ Sign up today.
URL:https://wjtl.com/event/vacation-bible-school-red-lion/2025-07-30/
LOCATION:Arlington EC Church Red Lion\, 585 Lombard Road\, Red Lion\, PA\, 17356\, United States
CATEGORIES:Community Events
END:VEVENT
END:VCALENDAR