BEGIN:VCALENDAR
VERSION:2.0
PRODID:-//WJTL FM 90.3 - Christ. Community. Music. - ECPv6.15.20//NONSGML v1.0//EN
CALSCALE:GREGORIAN
METHOD:PUBLISH
X-ORIGINAL-URL:https://wjtl.com
X-WR-CALDESC:Events for WJTL FM 90.3 - Christ. Community. Music.
REFRESH-INTERVAL;VALUE=DURATION:PT1H
X-Robots-Tag:noindex
X-PUBLISHED-TTL:PT1H
BEGIN:VTIMEZONE
TZID:America/New_York
BEGIN:DAYLIGHT
TZOFFSETFROM:-0500
TZOFFSETTO:-0400
TZNAME:EDT
DTSTART:20250309T070000
END:DAYLIGHT
BEGIN:STANDARD
TZOFFSETFROM:-0400
TZOFFSETTO:-0500
TZNAME:EST
DTSTART:20251102T060000
END:STANDARD
BEGIN:DAYLIGHT
TZOFFSETFROM:-0500
TZOFFSETTO:-0400
TZNAME:EDT
DTSTART:20260308T070000
END:DAYLIGHT
BEGIN:STANDARD
TZOFFSETFROM:-0400
TZOFFSETTO:-0500
TZNAME:EST
DTSTART:20261101T060000
END:STANDARD
BEGIN:DAYLIGHT
TZOFFSETFROM:-0500
TZOFFSETTO:-0400
TZNAME:EDT
DTSTART:20270314T070000
END:DAYLIGHT
BEGIN:STANDARD
TZOFFSETFROM:-0400
TZOFFSETTO:-0500
TZNAME:EST
DTSTART:20271107T060000
END:STANDARD
END:VTIMEZONE
BEGIN:VEVENT
DTSTART;TZID=America/New_York:20260503T090000
DTEND;TZID=America/New_York:20260503T130000
DTSTAMP:20260424T064729
CREATED:20260403T115946Z
LAST-MODIFIED:20260406T121927Z
UID:10035393-1777798800-1777813200@wjtl.com
SUMMARY:Central PA March for Babies
DESCRIPTION:5th Annual Volunteer Led March for Babies – Central PA\, taking place on Sunday\, May 3\, 2026\, at City Island. Registration and activities begin at 9:00 AM\, featuring the Harrisburg High School Cheerleaders\, the Harrisburg Fire Department\, and fun Kid Zone activities for all to enjoy\, and the walk starts at 10:30 AM. Bring your friends\, family\, and team spirit as we come together for a powerful cause and help give every baby the best possible start in life.\nThis impactful event brings together individuals\, families\, and organizations who share a common goal: giving every baby the best possible start in life.
URL:https://wjtl.com/event/central-pa-march-for-babies/
LOCATION:City Island\, Riverboat Pavilion\, Harrisburg\, PA\, 17101\, United States
CATEGORIES:Community Events
GEO:40.2571879;-76.8891816
X-APPLE-STRUCTURED-LOCATION;VALUE=URI;X-ADDRESS=City Island Riverboat Pavilion Harrisburg PA 17101 United States;X-APPLE-RADIUS=500;X-TITLE=Riverboat Pavilion:geo:-76.8891816,40.2571879
END:VEVENT
END:VCALENDAR