BEGIN:VCALENDAR
VERSION:2.0
PRODID:-//WJTL FM 90.3 - Christ. Community. Music. - ECPv6.15.20//NONSGML v1.0//EN
CALSCALE:GREGORIAN
METHOD:PUBLISH
X-WR-CALNAME:WJTL FM 90.3 - Christ. Community. Music.
X-ORIGINAL-URL:https://wjtl.com
X-WR-CALDESC:Events for WJTL FM 90.3 - Christ. Community. Music.
REFRESH-INTERVAL;VALUE=DURATION:PT1H
X-Robots-Tag:noindex
X-PUBLISHED-TTL:PT1H
BEGIN:VTIMEZONE
TZID:America/New_York
BEGIN:DAYLIGHT
TZOFFSETFROM:-0500
TZOFFSETTO:-0400
TZNAME:EDT
DTSTART:20240310T070000
END:DAYLIGHT
BEGIN:STANDARD
TZOFFSETFROM:-0400
TZOFFSETTO:-0500
TZNAME:EST
DTSTART:20241103T060000
END:STANDARD
BEGIN:DAYLIGHT
TZOFFSETFROM:-0500
TZOFFSETTO:-0400
TZNAME:EDT
DTSTART:20250309T070000
END:DAYLIGHT
BEGIN:STANDARD
TZOFFSETFROM:-0400
TZOFFSETTO:-0500
TZNAME:EST
DTSTART:20251102T060000
END:STANDARD
BEGIN:DAYLIGHT
TZOFFSETFROM:-0500
TZOFFSETTO:-0400
TZNAME:EDT
DTSTART:20260308T070000
END:DAYLIGHT
BEGIN:STANDARD
TZOFFSETFROM:-0400
TZOFFSETTO:-0500
TZNAME:EST
DTSTART:20261101T060000
END:STANDARD
END:VTIMEZONE
BEGIN:VEVENT
DTSTART;TZID=America/New_York:20250913T100000
DTEND;TZID=America/New_York:20250913T150000
DTSTAMP:20260421T132817
CREATED:20250716T184428Z
LAST-MODIFIED:20250716T185552Z
UID:10034074-1757757600-1757775600@wjtl.com
SUMMARY:Manheim Sertoma 3rd Annual Car Show
DESCRIPTION:Manheim Sertoma 3rd Annual Car Show. Pre-register your classic car\, street rod\, muscle car\, truck\, or motorcycle for a $15 donation before August 22nd to receive a Goody Bag and Collector Coin. Day of show- $20 donation to benefit Manheim Community Life Group\, Mt Hope Nazarene Retirement Community & Hope Served. 35+ Awards. Door Prizes. Music. Food. Pre-order chicken BBQ. Kreider’s ice cream. Local firetruck for kids to enjoy & get the real firefighter experience\, plus raffle/silent auction items. A family & friends fun day for everyone to enjoy! Follow Manheim Sertoma Club on Facebook  for upcoming information: https://www.facebook.com/share/1JNiNZXCGo/?mibextid=wwXIfr
URL:https://wjtl.com/event/manheim-sertoma-3rd-annual-car-show/
LOCATION:Elstonville Sportsmens Association\, 3133 Pinch Rd\, Manheim\, Pa\, 17545
CATEGORIES:Community Events
ATTACH;FMTTYPE=image/jpeg:https://wjtl.com/wp-content/uploads/2025/07/Manheim-Sertoma-2025-Car-Show-Flyer-scaled.jpg
END:VEVENT
END:VCALENDAR