BEGIN:VCALENDAR
VERSION:2.0
PRODID:-//WJTL FM 90.3 - Christ. Community. Music. - ECPv6.15.20//NONSGML v1.0//EN
CALSCALE:GREGORIAN
METHOD:PUBLISH
X-WR-CALNAME:WJTL FM 90.3 - Christ. Community. Music.
X-ORIGINAL-URL:https://wjtl.com
X-WR-CALDESC:Events for WJTL FM 90.3 - Christ. Community. Music.
REFRESH-INTERVAL;VALUE=DURATION:PT1H
X-Robots-Tag:noindex
X-PUBLISHED-TTL:PT1H
BEGIN:VTIMEZONE
TZID:America/New_York
BEGIN:DAYLIGHT
TZOFFSETFROM:-0500
TZOFFSETTO:-0400
TZNAME:EDT
DTSTART:20250309T070000
END:DAYLIGHT
BEGIN:STANDARD
TZOFFSETFROM:-0400
TZOFFSETTO:-0500
TZNAME:EST
DTSTART:20251102T060000
END:STANDARD
BEGIN:DAYLIGHT
TZOFFSETFROM:-0500
TZOFFSETTO:-0400
TZNAME:EDT
DTSTART:20260308T070000
END:DAYLIGHT
BEGIN:STANDARD
TZOFFSETFROM:-0400
TZOFFSETTO:-0500
TZNAME:EST
DTSTART:20261101T060000
END:STANDARD
BEGIN:DAYLIGHT
TZOFFSETFROM:-0500
TZOFFSETTO:-0400
TZNAME:EDT
DTSTART:20270314T070000
END:DAYLIGHT
BEGIN:STANDARD
TZOFFSETFROM:-0400
TZOFFSETTO:-0500
TZNAME:EST
DTSTART:20271107T060000
END:STANDARD
END:VTIMEZONE
BEGIN:VEVENT
DTSTART;TZID=America/New_York:20260403T190000
DTEND;TZID=America/New_York:20260403T203000
DTSTAMP:20260423T223435
CREATED:20260325T150356Z
LAST-MODIFIED:20260326T150357Z
UID:10035361-1775242800-1775248200@wjtl.com
SUMMARY:Good Friday Service
DESCRIPTION:Etown Grace Church will have a Good Friday service on Friday\, April 3rd at 7 PM. Remember the death of Jesus Christ on the cross through singing hymns and worship songs\, reading Scriptures and reflections on the Seven Sayings of Christ from the cross. Pastors will share the Scriptures during the service. There is special music from the Worship Team of Etown Grace Church. Each of those Seven words have deep meaning and significance for those at the cross and still for us as we meditate on them and consider what Jesus accomplished for everyone who believes in Him.\nThe church is located at 305 Anchor Road\, Elizabethtown. Come and begin the Easter weekend remembering Jesus’ death that was necessary for His resurrection on Sunday.
URL:https://wjtl.com/event/good-friday-service-3/
LOCATION:Etown Grace Church\, 305 Anchor Rd\, Elizabethtown\, Pa\, 17022
CATEGORIES:Community Events
END:VEVENT
END:VCALENDAR