BEGIN:VCALENDAR
VERSION:2.0
PRODID:-//WJTL FM 90.3 - Christ. Community. Music. - ECPv6.15.20//NONSGML v1.0//EN
CALSCALE:GREGORIAN
METHOD:PUBLISH
X-ORIGINAL-URL:https://wjtl.com
X-WR-CALDESC:Events for WJTL FM 90.3 - Christ. Community. Music.
REFRESH-INTERVAL;VALUE=DURATION:PT1H
X-Robots-Tag:noindex
X-PUBLISHED-TTL:PT1H
BEGIN:VTIMEZONE
TZID:America/New_York
BEGIN:DAYLIGHT
TZOFFSETFROM:-0500
TZOFFSETTO:-0400
TZNAME:EDT
DTSTART:20240310T070000
END:DAYLIGHT
BEGIN:STANDARD
TZOFFSETFROM:-0400
TZOFFSETTO:-0500
TZNAME:EST
DTSTART:20241103T060000
END:STANDARD
BEGIN:DAYLIGHT
TZOFFSETFROM:-0500
TZOFFSETTO:-0400
TZNAME:EDT
DTSTART:20250309T070000
END:DAYLIGHT
BEGIN:STANDARD
TZOFFSETFROM:-0400
TZOFFSETTO:-0500
TZNAME:EST
DTSTART:20251102T060000
END:STANDARD
BEGIN:DAYLIGHT
TZOFFSETFROM:-0500
TZOFFSETTO:-0400
TZNAME:EDT
DTSTART:20260308T070000
END:DAYLIGHT
BEGIN:STANDARD
TZOFFSETFROM:-0400
TZOFFSETTO:-0500
TZNAME:EST
DTSTART:20261101T060000
END:STANDARD
END:VTIMEZONE
BEGIN:VEVENT
DTSTART;TZID=America/New_York:20250503T080000
DTEND;TZID=America/New_York:20250504T170000
DTSTAMP:20260421T080512
CREATED:20250502T132807Z
LAST-MODIFIED:20250502T133049Z
UID:10031126-1746259200-1746378000@wjtl.com
SUMMARY:Fivepointville Fire Company Annual Benefit Auction
DESCRIPTION:Grocery Sale May 2nd at 6:00 pm. \nConsignment Auction Saturday May 3rd.  Rain or Shine beginning at 8:00 am \nFood items will be available. \nhttps://www.fivepointvillefire.net/annual-benefit-auction-items–times.html
URL:https://wjtl.com/event/fivepointville-fire-company-annual-benefit-auction/2025-05-03/
LOCATION:Fivepointville Fire Hall\, 1087 Dry Tavern Rd\, Denver\, PA\, 17517\, United States
CATEGORIES:Community Events
END:VEVENT
BEGIN:VEVENT
DTSTART;TZID=America/New_York:20250502T180000
DTEND;TZID=America/New_York:20250502T180000
DTSTAMP:20260421T080512
CREATED:20250502T132807Z
LAST-MODIFIED:20250502T133049Z
UID:10031125-1746208800-1746208800@wjtl.com
SUMMARY:Fivepointville Fire Company Annual Benefit Auction
DESCRIPTION:Grocery Sale May 2nd at 6:00 pm. \nConsignment Auction Saturday May 3rd.  Rain or Shine beginning at 8:00 am \nFood items will be available. \nhttps://www.fivepointvillefire.net/annual-benefit-auction-items–times.html
URL:https://wjtl.com/event/fivepointville-fire-company-annual-benefit-auction/2025-05-02/
LOCATION:Fivepointville Fire Hall\, 1087 Dry Tavern Rd\, Denver\, PA\, 17517\, United States
CATEGORIES:Community Events
END:VEVENT
END:VCALENDAR