BEGIN:VCALENDAR
VERSION:2.0
PRODID:-//WJTL FM 90.3 - Christ. Community. Music. - ECPv6.15.20//NONSGML v1.0//EN
CALSCALE:GREGORIAN
METHOD:PUBLISH
X-ORIGINAL-URL:https://wjtl.com
X-WR-CALDESC:Events for WJTL FM 90.3 - Christ. Community. Music.
REFRESH-INTERVAL;VALUE=DURATION:PT1H
X-Robots-Tag:noindex
X-PUBLISHED-TTL:PT1H
BEGIN:VTIMEZONE
TZID:America/New_York
BEGIN:DAYLIGHT
TZOFFSETFROM:-0500
TZOFFSETTO:-0400
TZNAME:EDT
DTSTART:20240310T070000
END:DAYLIGHT
BEGIN:STANDARD
TZOFFSETFROM:-0400
TZOFFSETTO:-0500
TZNAME:EST
DTSTART:20241103T060000
END:STANDARD
BEGIN:DAYLIGHT
TZOFFSETFROM:-0500
TZOFFSETTO:-0400
TZNAME:EDT
DTSTART:20250309T070000
END:DAYLIGHT
BEGIN:STANDARD
TZOFFSETFROM:-0400
TZOFFSETTO:-0500
TZNAME:EST
DTSTART:20251102T060000
END:STANDARD
BEGIN:DAYLIGHT
TZOFFSETFROM:-0500
TZOFFSETTO:-0400
TZNAME:EDT
DTSTART:20260308T070000
END:DAYLIGHT
BEGIN:STANDARD
TZOFFSETFROM:-0400
TZOFFSETTO:-0500
TZNAME:EST
DTSTART:20261101T060000
END:STANDARD
END:VTIMEZONE
BEGIN:VEVENT
DTSTART;TZID=America/New_York:20250426T120000
DTEND;TZID=America/New_York:20250426T190000
DTSTAMP:20260424T194730
CREATED:20250311T165006Z
LAST-MODIFIED:20250311T165006Z
UID:10030726-1745668800-1745694000@wjtl.com
SUMMARY:Taste of New Holland Food Fest
DESCRIPTION:Taste of New Holland Food Fest\nFriday + Saturday\, April 25-26\nFriday 5pm – 9pm (Bingo starts @ 6pm)\nSaturday 12pm – 7pm (Kids Day Events 2pm – 4pm)\nThis is a no-fee event\, so come out and support Garden Spot Fire Rescue! \nYou can expect:\n12 different food vendors\nBingo Friday Night (6-9pm)\nDJ Friday Night\nLive music on Saturday from Dynamite Dave and the Ignitors\nOpen house at Garden Spot Fire Rescue\nKids Zone on Saturday afternoon (2-4pm)\nRaffle Prizes\nFire Engine rides by donation\n…and MORE! \nNEW this year is BINGO!\nFriday night at 6pm\nDoors open at 5pm\, so come out and get your favorite food truck eats in plenty of time before enjoying a game of bingo.\n10 regular games\, plus 2 special games (extra $5)\nTickets are $20 in advance\, $25 at the door\nLimited game tickets!\nBINGO tickets:\nhttps://crm.bloomerang.co/HostedDonation… \n13 Food Trucks:\nNext Level Pizza\nNice Size Fries\nGarden Spot Fire Rescue (GSFR39) Rescue – Serving oyster sandwiches\, burgers\, & more (100% of proceeds support GSFR!)\nHenhouse Grilling\nLickity Split Ice Cream Truck\nCupcakes By Casey\nMr. Mini’s Tasty Donuts\nCastanedas\nNew Holland Lion’s Club\nNoel’s Cafe\nPappy’s BBQ\nSkip’s Chicken\nLorah’s Homemade Chocolate \nNEW & IMPROVED Kids Zone!\nOn Saturday\, its all about the kids from 2pm – 4pm.\nEnjoy a tour of the fire house\nVisit with Smokey Bear\nSmoke trailer experience\nFire truck rides\nand much more \nBIG PRIZES!\nThroughout both days we will have raffle prizes\nRaffle prizes winners will be picked @ 6:30pm on Saturday\, we will go LIVE on Facebook to pick the names (you don’t need to be present to win)\nThe prizes this year are even BIGGER and BETTER\, due to our generous sponsors!
URL:https://wjtl.com/event/taste-of-new-holland-food-fest/2025-04-26/
LOCATION:Garden Spot Fire & Rescue\, 339 E. Main St.\, New Holland\, PA\, 17557\, United States
CATEGORIES:Community Events
ATTACH;FMTTYPE=image/jpeg:https://wjtl.com/wp-content/uploads/2025/03/2025-Flyer.jpg
ORGANIZER;CN="Garden Spot Fire &amp%3B Rescue":MAILTO:TasteOfNewHolland@gsfr39.net
END:VEVENT
BEGIN:VEVENT
DTSTART;TZID=America/New_York:20250425T170000
DTEND;TZID=America/New_York:20250425T210000
DTSTAMP:20260424T194730
CREATED:20250311T165006Z
LAST-MODIFIED:20250311T165006Z
UID:10030725-1745600400-1745614800@wjtl.com
SUMMARY:Taste of New Holland Food Fest
DESCRIPTION:Taste of New Holland Food Fest\nFriday + Saturday\, April 25-26\nFriday 5pm – 9pm (Bingo starts @ 6pm)\nSaturday 12pm – 7pm (Kids Day Events 2pm – 4pm)\nThis is a no-fee event\, so come out and support Garden Spot Fire Rescue! \nYou can expect:\n12 different food vendors\nBingo Friday Night (6-9pm)\nDJ Friday Night\nLive music on Saturday from Dynamite Dave and the Ignitors\nOpen house at Garden Spot Fire Rescue\nKids Zone on Saturday afternoon (2-4pm)\nRaffle Prizes\nFire Engine rides by donation\n…and MORE! \nNEW this year is BINGO!\nFriday night at 6pm\nDoors open at 5pm\, so come out and get your favorite food truck eats in plenty of time before enjoying a game of bingo.\n10 regular games\, plus 2 special games (extra $5)\nTickets are $20 in advance\, $25 at the door\nLimited game tickets!\nBINGO tickets:\nhttps://crm.bloomerang.co/HostedDonation… \n13 Food Trucks:\nNext Level Pizza\nNice Size Fries\nGarden Spot Fire Rescue (GSFR39) Rescue – Serving oyster sandwiches\, burgers\, & more (100% of proceeds support GSFR!)\nHenhouse Grilling\nLickity Split Ice Cream Truck\nCupcakes By Casey\nMr. Mini’s Tasty Donuts\nCastanedas\nNew Holland Lion’s Club\nNoel’s Cafe\nPappy’s BBQ\nSkip’s Chicken\nLorah’s Homemade Chocolate \nNEW & IMPROVED Kids Zone!\nOn Saturday\, its all about the kids from 2pm – 4pm.\nEnjoy a tour of the fire house\nVisit with Smokey Bear\nSmoke trailer experience\nFire truck rides\nand much more \nBIG PRIZES!\nThroughout both days we will have raffle prizes\nRaffle prizes winners will be picked @ 6:30pm on Saturday\, we will go LIVE on Facebook to pick the names (you don’t need to be present to win)\nThe prizes this year are even BIGGER and BETTER\, due to our generous sponsors!
URL:https://wjtl.com/event/taste-of-new-holland-food-fest/2025-04-25/
LOCATION:Garden Spot Fire & Rescue\, 339 E. Main St.\, New Holland\, PA\, 17557\, United States
CATEGORIES:Community Events
ATTACH;FMTTYPE=image/jpeg:https://wjtl.com/wp-content/uploads/2025/03/2025-Flyer.jpg
ORGANIZER;CN="Garden Spot Fire &amp%3B Rescue":MAILTO:TasteOfNewHolland@gsfr39.net
END:VEVENT
END:VCALENDAR