BEGIN:VCALENDAR
VERSION:2.0
PRODID:-//WJTL FM 90.3 - Christ. Community. Music. - ECPv6.15.20//NONSGML v1.0//EN
CALSCALE:GREGORIAN
METHOD:PUBLISH
X-ORIGINAL-URL:https://wjtl.com
X-WR-CALDESC:Events for WJTL FM 90.3 - Christ. Community. Music.
REFRESH-INTERVAL;VALUE=DURATION:PT1H
X-Robots-Tag:noindex
X-PUBLISHED-TTL:PT1H
BEGIN:VTIMEZONE
TZID:America/New_York
BEGIN:DAYLIGHT
TZOFFSETFROM:-0500
TZOFFSETTO:-0400
TZNAME:EDT
DTSTART:20240310T070000
END:DAYLIGHT
BEGIN:STANDARD
TZOFFSETFROM:-0400
TZOFFSETTO:-0500
TZNAME:EST
DTSTART:20241103T060000
END:STANDARD
BEGIN:DAYLIGHT
TZOFFSETFROM:-0500
TZOFFSETTO:-0400
TZNAME:EDT
DTSTART:20250309T070000
END:DAYLIGHT
BEGIN:STANDARD
TZOFFSETFROM:-0400
TZOFFSETTO:-0500
TZNAME:EST
DTSTART:20251102T060000
END:STANDARD
BEGIN:DAYLIGHT
TZOFFSETFROM:-0500
TZOFFSETTO:-0400
TZNAME:EDT
DTSTART:20260308T070000
END:DAYLIGHT
BEGIN:STANDARD
TZOFFSETFROM:-0400
TZOFFSETTO:-0500
TZNAME:EST
DTSTART:20261101T060000
END:STANDARD
END:VTIMEZONE
BEGIN:VEVENT
DTSTART;TZID=America/New_York:20250927T133000
DTEND;TZID=America/New_York:20250927T160000
DTSTAMP:20260421T163056
CREATED:20250905T202757Z
LAST-MODIFIED:20250905T225713Z
UID:10034365-1758979800-1758988800@wjtl.com
SUMMARY:Train Room Open House
DESCRIPTION:The Garden Spot Village Train Room Open House will delight visitors of all ages. The HO-gauge train layout includes Thomasville and the ever-popular “Talk with Thomas” event. The O-gauge layout includes an elevated track. Both layouts provide plenty of train action complemented with heavily detailed scenery. \nThis event is free and open to the public. Donations welcome. \nGarden Spot Village is located at 433 S Kinzer Avenue\, New Holland. For more information\, call 717.355.6000.
URL:https://wjtl.com/event/train-room-open-house/
LOCATION:Garden Spot Train Room\, 433 S Kinzer Avenue\, New Holland\, PA\, 17557\, United States
CATEGORIES:Community Events
ATTACH;FMTTYPE=image/jpeg:https://wjtl.com/wp-content/uploads/2025/09/gsv-email-event-train-room-blog.jpg
END:VEVENT
END:VCALENDAR