BEGIN:VCALENDAR
VERSION:2.0
PRODID:-//WJTL FM 90.3 - Christ. Community. Music. - ECPv6.15.20//NONSGML v1.0//EN
CALSCALE:GREGORIAN
METHOD:PUBLISH
X-WR-CALNAME:WJTL FM 90.3 - Christ. Community. Music.
X-ORIGINAL-URL:https://wjtl.com
X-WR-CALDESC:Events for WJTL FM 90.3 - Christ. Community. Music.
REFRESH-INTERVAL;VALUE=DURATION:PT1H
X-Robots-Tag:noindex
X-PUBLISHED-TTL:PT1H
BEGIN:VTIMEZONE
TZID:America/New_York
BEGIN:DAYLIGHT
TZOFFSETFROM:-0500
TZOFFSETTO:-0400
TZNAME:EDT
DTSTART:20240310T070000
END:DAYLIGHT
BEGIN:STANDARD
TZOFFSETFROM:-0400
TZOFFSETTO:-0500
TZNAME:EST
DTSTART:20241103T060000
END:STANDARD
BEGIN:DAYLIGHT
TZOFFSETFROM:-0500
TZOFFSETTO:-0400
TZNAME:EDT
DTSTART:20250309T070000
END:DAYLIGHT
BEGIN:STANDARD
TZOFFSETFROM:-0400
TZOFFSETTO:-0500
TZNAME:EST
DTSTART:20251102T060000
END:STANDARD
BEGIN:DAYLIGHT
TZOFFSETFROM:-0500
TZOFFSETTO:-0400
TZNAME:EDT
DTSTART:20260308T070000
END:DAYLIGHT
BEGIN:STANDARD
TZOFFSETFROM:-0400
TZOFFSETTO:-0500
TZNAME:EST
DTSTART:20261101T060000
END:STANDARD
END:VTIMEZONE
BEGIN:VEVENT
DTSTART;TZID=America/New_York:20251031T100000
DTEND;TZID=America/New_York:20251031T120000
DTSTAMP:20260421T080059
CREATED:20250905T204733Z
LAST-MODIFIED:20250908T133743Z
UID:10034373-1761904800-1761912000@wjtl.com
SUMMARY:Scam & Fraud Prevention Presentation
DESCRIPTION:State Representative Keith Greiner and the Pennsylvania Department of Banking will present an informational session on Scam & Fraud Prevention at 10am in the Chapel at Garden Spot Village. \nThis event is free and open to the public. \nGarden Spot Village is located at 433 S Kinzer Avenue\, New Holland. For more information\, call 717.355.6000.
URL:https://wjtl.com/event/scam-fraud-prevention-presentation/
LOCATION:Garden Spot Village Chapel\, 433 S Kinzer Avenue\, New Holland\, PA\, 17557\, United States
CATEGORIES:Community Events
END:VEVENT
END:VCALENDAR