BEGIN:VCALENDAR
VERSION:2.0
PRODID:-//WJTL FM 90.3 - Christ. Community. Music. - ECPv6.15.20//NONSGML v1.0//EN
CALSCALE:GREGORIAN
METHOD:PUBLISH
X-WR-CALNAME:WJTL FM 90.3 - Christ. Community. Music.
X-ORIGINAL-URL:https://wjtl.com
X-WR-CALDESC:Events for WJTL FM 90.3 - Christ. Community. Music.
REFRESH-INTERVAL;VALUE=DURATION:PT1H
X-Robots-Tag:noindex
X-PUBLISHED-TTL:PT1H
BEGIN:VTIMEZONE
TZID:America/New_York
BEGIN:DAYLIGHT
TZOFFSETFROM:-0500
TZOFFSETTO:-0400
TZNAME:EDT
DTSTART:20250309T070000
END:DAYLIGHT
BEGIN:STANDARD
TZOFFSETFROM:-0400
TZOFFSETTO:-0500
TZNAME:EST
DTSTART:20251102T060000
END:STANDARD
BEGIN:DAYLIGHT
TZOFFSETFROM:-0500
TZOFFSETTO:-0400
TZNAME:EDT
DTSTART:20260308T070000
END:DAYLIGHT
BEGIN:STANDARD
TZOFFSETFROM:-0400
TZOFFSETTO:-0500
TZNAME:EST
DTSTART:20261101T060000
END:STANDARD
BEGIN:DAYLIGHT
TZOFFSETFROM:-0500
TZOFFSETTO:-0400
TZNAME:EDT
DTSTART:20270314T070000
END:DAYLIGHT
BEGIN:STANDARD
TZOFFSETFROM:-0400
TZOFFSETTO:-0500
TZNAME:EST
DTSTART:20271107T060000
END:STANDARD
END:VTIMEZONE
BEGIN:VEVENT
DTSTART;TZID=America/New_York:20260213T193000
DTEND;TZID=America/New_York:20260213T203000
DTSTAMP:20260424T230953
CREATED:20260125T004531Z
LAST-MODIFIED:20260125T004531Z
UID:10035055-1771011000-1771014600@wjtl.com
SUMMARY:A Sound Journey
DESCRIPTION:A multi-instrumental sound practitioner with 22 years of musical experience\, Ryan Bright is rooted in instinct\, intuition and blends acoustic and amplified vibrations from singing bowls\, gongs\, harmonicas\, drum\, crystal pyramid\, and his own voice. Each tone becomes a living element—earth\, air\, fire\, and water woven into sound—guiding listeners into deeper presence and subtle awareness. \nDuring this winter season\, his sound journeys are crafted to support relaxation\, alignment\, clarity\, and inner balance\, offering a sanctuary of warmth as the colder months invite us inward. Through intention\, resonance\, and connection to the natural rhythms around us\, Ryan creates spaces where the body softens\, the mind unwinds\, and the spirit gently reawakens.
URL:https://wjtl.com/event/a-sound-journey/
LOCATION:Inspire Wellness Collective\, 226 N Arch St\, Lancaster\, PA\, 17603\, United States
CATEGORIES:Community Events
END:VEVENT
END:VCALENDAR