BEGIN:VCALENDAR
VERSION:2.0
PRODID:-//WJTL FM 90.3 - Christ. Community. Music. - ECPv6.15.20//NONSGML v1.0//EN
CALSCALE:GREGORIAN
METHOD:PUBLISH
X-WR-CALNAME:WJTL FM 90.3 - Christ. Community. Music.
X-ORIGINAL-URL:https://wjtl.com
X-WR-CALDESC:Events for WJTL FM 90.3 - Christ. Community. Music.
REFRESH-INTERVAL;VALUE=DURATION:PT1H
X-Robots-Tag:noindex
X-PUBLISHED-TTL:PT1H
BEGIN:VTIMEZONE
TZID:America/New_York
BEGIN:DAYLIGHT
TZOFFSETFROM:-0500
TZOFFSETTO:-0400
TZNAME:EDT
DTSTART:20250309T070000
END:DAYLIGHT
BEGIN:STANDARD
TZOFFSETFROM:-0400
TZOFFSETTO:-0500
TZNAME:EST
DTSTART:20251102T060000
END:STANDARD
BEGIN:DAYLIGHT
TZOFFSETFROM:-0500
TZOFFSETTO:-0400
TZNAME:EDT
DTSTART:20260308T070000
END:DAYLIGHT
BEGIN:STANDARD
TZOFFSETFROM:-0400
TZOFFSETTO:-0500
TZNAME:EST
DTSTART:20261101T060000
END:STANDARD
BEGIN:DAYLIGHT
TZOFFSETFROM:-0500
TZOFFSETTO:-0400
TZNAME:EDT
DTSTART:20270314T070000
END:DAYLIGHT
BEGIN:STANDARD
TZOFFSETFROM:-0400
TZOFFSETTO:-0500
TZNAME:EST
DTSTART:20271107T060000
END:STANDARD
END:VTIMEZONE
BEGIN:VEVENT
DTSTART;TZID=America/New_York:20260110T100000
DTEND;TZID=America/New_York:20260110T150000
DTSTAMP:20260421T074741
CREATED:20251215T201939Z
LAST-MODIFIED:20251216T140734Z
UID:10034939-1768039200-1768057200@wjtl.com
SUMMARY:Lititz Christian School Homecoming Weekend/Hall of Fall Induction
DESCRIPTION:This special weekend is an opportunity for us to celebrate our school community and honor alumni who have made a lasting impact on Lititz Christian School. We are thrilled to welcome back and induct the 2011 Girls Volleyball Team into our Hall of Fame\, recognizing their remarkable accomplishments\, dedication\, and character both on and off the court. \nThe Hall of Fame Induction Ceremony will take place on Saturday\, January 10th at 12:15 PM at John Bonfield Elementary School in Lititz\, as part of our Homecoming festivities. We would love for the community to be aware of this meaningful event and the way Lititz Christian School continues to celebrate and honor its alumni.
URL:https://wjtl.com/event/lititz-christian-school-homecoming-weekend-hall-of-fall-induction/
LOCATION:John Bonfield Elementary School\, 101 N Oak Street\, Lititz\, PA\, 17543\, United States
CATEGORIES:Community Events
ATTACH;FMTTYPE=image/png:https://wjtl.com/wp-content/uploads/2025/12/2025-Homecoming-Hall-of-Fame-2011-Lititz-Christian-Eagles.png
END:VEVENT
END:VCALENDAR