BEGIN:VCALENDAR
VERSION:2.0
PRODID:-//WJTL FM 90.3 - Christ. Community. Music. - ECPv6.15.20//NONSGML v1.0//EN
CALSCALE:GREGORIAN
METHOD:PUBLISH
X-WR-CALNAME:WJTL FM 90.3 - Christ. Community. Music.
X-ORIGINAL-URL:https://wjtl.com
X-WR-CALDESC:Events for WJTL FM 90.3 - Christ. Community. Music.
REFRESH-INTERVAL;VALUE=DURATION:PT1H
X-Robots-Tag:noindex
X-PUBLISHED-TTL:PT1H
BEGIN:VTIMEZONE
TZID:America/New_York
BEGIN:DAYLIGHT
TZOFFSETFROM:-0500
TZOFFSETTO:-0400
TZNAME:EDT
DTSTART:20250309T070000
END:DAYLIGHT
BEGIN:STANDARD
TZOFFSETFROM:-0400
TZOFFSETTO:-0500
TZNAME:EST
DTSTART:20251102T060000
END:STANDARD
BEGIN:DAYLIGHT
TZOFFSETFROM:-0500
TZOFFSETTO:-0400
TZNAME:EDT
DTSTART:20260308T070000
END:DAYLIGHT
BEGIN:STANDARD
TZOFFSETFROM:-0400
TZOFFSETTO:-0500
TZNAME:EST
DTSTART:20261101T060000
END:STANDARD
BEGIN:DAYLIGHT
TZOFFSETFROM:-0500
TZOFFSETTO:-0400
TZNAME:EDT
DTSTART:20270314T070000
END:DAYLIGHT
BEGIN:STANDARD
TZOFFSETFROM:-0400
TZOFFSETTO:-0500
TZNAME:EST
DTSTART:20271107T060000
END:STANDARD
END:VTIMEZONE
BEGIN:VEVENT
DTSTART;TZID=America/New_York:20260501T190000
DTEND;TZID=America/New_York:20260501T203000
DTSTAMP:20260424T032555
CREATED:20260202T210054Z
LAST-MODIFIED:20260203T145151Z
UID:10035106-1777662000-1777667400@wjtl.com
SUMMARY:Servant Stage Company’s A Broadway Melody
DESCRIPTION:Step into the spotlight with A Broadway Melody! This spectacular revue celebrates 100 years of Broadway magic\, featuring unforgettable songs and showstoppers from the greatest musicals of all time. With a powerhouse cast of dynamic performers\, this intimate cabaret-style performance brings the best of the Great White Way up close and personal. From classic tunes to modern hits\, A Broadway Melody is a joyful\, high-energy tribute to the music\, memories\, and magic that have defined a century of Broadway!
URL:https://wjtl.com/event/servant-stage-companys-a-broadway-melody-7/
LOCATION:Lancaster Alliance Church\, 210 Pitney Rd \, Lancaster\, PA\, 17601\, United States
CATEGORIES:Community Events
ATTACH;FMTTYPE=image/png:https://wjtl.com/wp-content/uploads/2026/02/Slide-BroadwayMelody-withSSlogo.png
END:VEVENT
BEGIN:VEVENT
DTSTART;TZID=America/New_York:20260502T110000
DTEND;TZID=America/New_York:20260502T123000
DTSTAMP:20260424T032555
CREATED:20260202T210208Z
LAST-MODIFIED:20260203T145238Z
UID:10035107-1777719600-1777725000@wjtl.com
SUMMARY:Servant Stage Company’s A Broadway Melody
DESCRIPTION:Step into the spotlight with A Broadway Melody! This spectacular revue celebrates 100 years of Broadway magic\, featuring unforgettable songs and showstoppers from the greatest musicals of all time. With a powerhouse cast of dynamic performers\, this intimate cabaret-style performance brings the best of the Great White Way up close and personal. From classic tunes to modern hits\, A Broadway Melody is a joyful\, high-energy tribute to the music\, memories\, and magic that have defined a century of Broadway!
URL:https://wjtl.com/event/servant-stage-companys-a-broadway-melody-8/
LOCATION:Lancaster Alliance Church\, 210 Pitney Rd \, Lancaster\, PA\, 17601\, United States
CATEGORIES:Community Events
ATTACH;FMTTYPE=image/png:https://wjtl.com/wp-content/uploads/2026/02/Slide-BroadwayMelody-withSSlogo1.png
END:VEVENT
BEGIN:VEVENT
DTSTART;TZID=America/New_York:20260502T150000
DTEND;TZID=America/New_York:20260502T163000
DTSTAMP:20260424T032555
CREATED:20260202T210317Z
LAST-MODIFIED:20260203T145300Z
UID:10035108-1777734000-1777739400@wjtl.com
SUMMARY:Servant Stage Company’s A Broadway Melody
DESCRIPTION:Step into the spotlight with A Broadway Melody! This spectacular revue celebrates 100 years of Broadway magic\, featuring unforgettable songs and showstoppers from the greatest musicals of all time. With a powerhouse cast of dynamic performers\, this intimate cabaret-style performance brings the best of the Great White Way up close and personal. From classic tunes to modern hits\, A Broadway Melody is a joyful\, high-energy tribute to the music\, memories\, and magic that have defined a century of Broadway!
URL:https://wjtl.com/event/servant-stage-companys-a-broadway-melody-9/
LOCATION:Lancaster Alliance Church\, 210 Pitney Rd \, Lancaster\, PA\, 17601\, United States
CATEGORIES:Community Events
ATTACH;FMTTYPE=image/png:https://wjtl.com/wp-content/uploads/2026/02/Slide-BroadwayMelody-withSSlogo2.png
END:VEVENT
BEGIN:VEVENT
DTSTART;TZID=America/New_York:20260503T150000
DTEND;TZID=America/New_York:20260503T163000
DTSTAMP:20260424T032555
CREATED:20260202T210410Z
LAST-MODIFIED:20260203T145329Z
UID:10035109-1777820400-1777825800@wjtl.com
SUMMARY:Servant Stage Company’s A Broadway Melody
DESCRIPTION:Step into the spotlight with A Broadway Melody! This spectacular revue celebrates 100 years of Broadway magic\, featuring unforgettable songs and showstoppers from the greatest musicals of all time. With a powerhouse cast of dynamic performers\, this intimate cabaret-style performance brings the best of the Great White Way up close and personal. From classic tunes to modern hits\, A Broadway Melody is a joyful\, high-energy tribute to the music\, memories\, and magic that have defined a century of Broadway!
URL:https://wjtl.com/event/servant-stage-companys-a-broadway-melody-10/
LOCATION:Lancaster Alliance Church\, 210 Pitney Rd \, Lancaster\, PA\, 17601\, United States
CATEGORIES:Community Events
ATTACH;FMTTYPE=image/png:https://wjtl.com/wp-content/uploads/2026/02/Slide-BroadwayMelody-withSSlogo3.png
END:VEVENT
BEGIN:VEVENT
DTSTART;TZID=America/New_York:20260605T190000
DTEND;TZID=America/New_York:20260605T210000
DTSTAMP:20260424T032555
CREATED:20260302T234035Z
LAST-MODIFIED:20260303T161816Z
UID:10035186-1780686000-1780693200@wjtl.com
SUMMARY:Servant Stage Company’s Joseph and the Amazing Technicolor Dreamcoat
DESCRIPTION:Experience the dazzling spectacle of Joseph and the Amazing Technicolor Dreamcoat! This beloved Andrew Lloyd Webber and Tim Rice musical bursts to life with vibrant songs\, energetic dancing\, and a kaleidoscope of color as it retells the biblical story of Joseph and his coat of many colors. From joyous country hoedowns to rock-and-roll showstoppers\, this family-friendly favorite is packed with humor\, heart\, and unforgettable music. Join us for a fun-filled celebration of faith\, forgiveness\, and the power of dreams in this high-energy production that will leave audiences singing all the way home!
URL:https://wjtl.com/event/servant-stage-companys-joseph-and-the-amazing-technicolor-dreamcoat/
LOCATION:Lancaster Alliance Church\, 210 Pitney Rd \, Lancaster\, PA\, 17601\, United States
CATEGORIES:Community Events
ATTACH;FMTTYPE=image/png:https://wjtl.com/wp-content/uploads/2026/03/Side-Joseph.png
END:VEVENT
BEGIN:VEVENT
DTSTART;TZID=America/New_York:20260606T110000
DTEND;TZID=America/New_York:20260606T130000
DTSTAMP:20260424T032555
CREATED:20260302T234139Z
LAST-MODIFIED:20260303T161857Z
UID:10035187-1780743600-1780750800@wjtl.com
SUMMARY:Servant Stage Company’s Joseph and the Amazing Technicolor Dreamcoat
DESCRIPTION:Experience the dazzling spectacle of Joseph and the Amazing Technicolor Dreamcoat! This beloved Andrew Lloyd Webber and Tim Rice musical bursts to life with vibrant songs\, energetic dancing\, and a kaleidoscope of color as it retells the biblical story of Joseph and his coat of many colors. From joyous country hoedowns to rock-and-roll showstoppers\, this family-friendly favorite is packed with humor\, heart\, and unforgettable music. Join us for a fun-filled celebration of faith\, forgiveness\, and the power of dreams in this high-energy production that will leave audiences singing all the way home!
URL:https://wjtl.com/event/servant-stage-companys-joseph-and-the-amazing-technicolor-dreamcoat-2/
LOCATION:Lancaster Alliance Church\, 210 Pitney Rd \, Lancaster\, PA\, 17601\, United States
CATEGORIES:Community Events
ATTACH;FMTTYPE=image/png:https://wjtl.com/wp-content/uploads/2026/03/Side-Joseph1.png
END:VEVENT
BEGIN:VEVENT
DTSTART;TZID=America/New_York:20260606T150000
DTEND;TZID=America/New_York:20260606T170000
DTSTAMP:20260424T032555
CREATED:20260302T234231Z
LAST-MODIFIED:20260303T161929Z
UID:10035188-1780758000-1780765200@wjtl.com
SUMMARY:Servant Stage Company’s Joseph and the Amazing Technicolor Dreamcoat
DESCRIPTION:Experience the dazzling spectacle of Joseph and the Amazing Technicolor Dreamcoat! This beloved Andrew Lloyd Webber and Tim Rice musical bursts to life with vibrant songs\, energetic dancing\, and a kaleidoscope of color as it retells the biblical story of Joseph and his coat of many colors. From joyous country hoedowns to rock-and-roll showstoppers\, this family-friendly favorite is packed with humor\, heart\, and unforgettable music. Join us for a fun-filled celebration of faith\, forgiveness\, and the power of dreams in this high-energy production that will leave audiences singing all the way home!
URL:https://wjtl.com/event/servant-stage-companys-joseph-and-the-amazing-technicolor-dreamcoat-3/
LOCATION:Lancaster Alliance Church\, 210 Pitney Rd \, Lancaster\, PA\, 17601\, United States
CATEGORIES:Community Events
ATTACH;FMTTYPE=image/png:https://wjtl.com/wp-content/uploads/2026/03/Side-Joseph2.png
END:VEVENT
BEGIN:VEVENT
DTSTART;TZID=America/New_York:20260607T150000
DTEND;TZID=America/New_York:20260607T170000
DTSTAMP:20260424T032555
CREATED:20260302T234324Z
LAST-MODIFIED:20260303T162038Z
UID:10035189-1780844400-1780851600@wjtl.com
SUMMARY:Servant Stage Company’s Joseph and the Amazing Technicolor Dreamcoat
DESCRIPTION:Experience the dazzling spectacle of Joseph and the Amazing Technicolor Dreamcoat! This beloved Andrew Lloyd Webber and Tim Rice musical bursts to life with vibrant songs\, energetic dancing\, and a kaleidoscope of color as it retells the biblical story of Joseph and his coat of many colors. From joyous country hoedowns to rock-and-roll showstoppers\, this family-friendly favorite is packed with humor\, heart\, and unforgettable music. Join us for a fun-filled celebration of faith\, forgiveness\, and the power of dreams in this high-energy production that will leave audiences singing all the way home!
URL:https://wjtl.com/event/servant-stage-companys-joseph-and-the-amazing-technicolor-dreamcoat-4/
LOCATION:Lancaster Alliance Church\, 210 Pitney Rd \, Lancaster\, PA\, 17601\, United States
CATEGORIES:Community Events
ATTACH;FMTTYPE=image/png:https://wjtl.com/wp-content/uploads/2026/03/Side-Joseph3.png
END:VEVENT
BEGIN:VEVENT
DTSTART;TZID=America/New_York:20260612T190000
DTEND;TZID=America/New_York:20260612T210000
DTSTAMP:20260424T032555
CREATED:20260302T234411Z
LAST-MODIFIED:20260303T162105Z
UID:10035190-1781290800-1781298000@wjtl.com
SUMMARY:Servant Stage Company’s Joseph and the Amazing Technicolor Dreamcoat
DESCRIPTION:Experience the dazzling spectacle of Joseph and the Amazing Technicolor Dreamcoat! This beloved Andrew Lloyd Webber and Tim Rice musical bursts to life with vibrant songs\, energetic dancing\, and a kaleidoscope of color as it retells the biblical story of Joseph and his coat of many colors. From joyous country hoedowns to rock-and-roll showstoppers\, this family-friendly favorite is packed with humor\, heart\, and unforgettable music. Join us for a fun-filled celebration of faith\, forgiveness\, and the power of dreams in this high-energy production that will leave audiences singing all the way home!
URL:https://wjtl.com/event/servant-stage-companys-joseph-and-the-amazing-technicolor-dreamcoat-5/
LOCATION:Lancaster Alliance Church\, 210 Pitney Rd \, Lancaster\, PA\, 17601\, United States
CATEGORIES:Community Events
ATTACH;FMTTYPE=image/png:https://wjtl.com/wp-content/uploads/2026/03/Side-Joseph4.png
END:VEVENT
BEGIN:VEVENT
DTSTART;TZID=America/New_York:20260613T110000
DTEND;TZID=America/New_York:20260613T130000
DTSTAMP:20260424T032555
CREATED:20260302T234510Z
LAST-MODIFIED:20260303T162136Z
UID:10035191-1781348400-1781355600@wjtl.com
SUMMARY:Servant Stage Company’s Joseph and the Amazing Technicolor Dreamcoat
DESCRIPTION:Experience the dazzling spectacle of Joseph and the Amazing Technicolor Dreamcoat! This beloved Andrew Lloyd Webber and Tim Rice musical bursts to life with vibrant songs\, energetic dancing\, and a kaleidoscope of color as it retells the biblical story of Joseph and his coat of many colors. From joyous country hoedowns to rock-and-roll showstoppers\, this family-friendly favorite is packed with humor\, heart\, and unforgettable music. Join us for a fun-filled celebration of faith\, forgiveness\, and the power of dreams in this high-energy production that will leave audiences singing all the way home!
URL:https://wjtl.com/event/servant-stage-companys-joseph-and-the-amazing-technicolor-dreamcoat-6/
LOCATION:Lancaster Alliance Church\, 210 Pitney Rd \, Lancaster\, PA\, 17601\, United States
CATEGORIES:Community Events
ATTACH;FMTTYPE=image/png:https://wjtl.com/wp-content/uploads/2026/03/Side-Joseph5.png
END:VEVENT
BEGIN:VEVENT
DTSTART;TZID=America/New_York:20260613T150000
DTEND;TZID=America/New_York:20260613T170000
DTSTAMP:20260424T032555
CREATED:20260302T234600Z
LAST-MODIFIED:20260303T162205Z
UID:10035192-1781362800-1781370000@wjtl.com
SUMMARY:Servant Stage Company’s Joseph and the Amazing Technicolor Dreamcoat
DESCRIPTION:Experience the dazzling spectacle of Joseph and the Amazing Technicolor Dreamcoat! This beloved Andrew Lloyd Webber and Tim Rice musical bursts to life with vibrant songs\, energetic dancing\, and a kaleidoscope of color as it retells the biblical story of Joseph and his coat of many colors. From joyous country hoedowns to rock-and-roll showstoppers\, this family-friendly favorite is packed with humor\, heart\, and unforgettable music. Join us for a fun-filled celebration of faith\, forgiveness\, and the power of dreams in this high-energy production that will leave audiences singing all the way home!
URL:https://wjtl.com/event/servant-stage-companys-joseph-and-the-amazing-technicolor-dreamcoat-7/
LOCATION:Lancaster Alliance Church\, 210 Pitney Rd \, Lancaster\, PA\, 17601\, United States
CATEGORIES:Community Events
ATTACH;FMTTYPE=image/png:https://wjtl.com/wp-content/uploads/2026/03/Side-Joseph6.png
END:VEVENT
BEGIN:VEVENT
DTSTART;TZID=America/New_York:20260614T150000
DTEND;TZID=America/New_York:20260614T170000
DTSTAMP:20260424T032555
CREATED:20260302T234705Z
LAST-MODIFIED:20260303T162232Z
UID:10035193-1781449200-1781456400@wjtl.com
SUMMARY:Servant Stage Company’s Joseph and the Amazing Technicolor Dreamcoat
DESCRIPTION:Experience the dazzling spectacle of Joseph and the Amazing Technicolor Dreamcoat! This beloved Andrew Lloyd Webber and Tim Rice musical bursts to life with vibrant songs\, energetic dancing\, and a kaleidoscope of color as it retells the biblical story of Joseph and his coat of many colors. From joyous country hoedowns to rock-and-roll showstoppers\, this family-friendly favorite is packed with humor\, heart\, and unforgettable music. Join us for a fun-filled celebration of faith\, forgiveness\, and the power of dreams in this high-energy production that will leave audiences singing all the way home!
URL:https://wjtl.com/event/servant-stage-companys-joseph-and-the-amazing-technicolor-dreamcoat-8/
LOCATION:Lancaster Alliance Church\, 210 Pitney Rd \, Lancaster\, PA\, 17601\, United States
CATEGORIES:Community Events
ATTACH;FMTTYPE=image/png:https://wjtl.com/wp-content/uploads/2026/03/Side-Joseph7.png
END:VEVENT
END:VCALENDAR