BEGIN:VCALENDAR
VERSION:2.0
PRODID:-//WJTL FM 90.3 - Christ. Community. Music. - ECPv6.15.20//NONSGML v1.0//EN
CALSCALE:GREGORIAN
METHOD:PUBLISH
X-WR-CALNAME:WJTL FM 90.3 - Christ. Community. Music.
X-ORIGINAL-URL:https://wjtl.com
X-WR-CALDESC:Events for WJTL FM 90.3 - Christ. Community. Music.
REFRESH-INTERVAL;VALUE=DURATION:PT1H
X-Robots-Tag:noindex
X-PUBLISHED-TTL:PT1H
BEGIN:VTIMEZONE
TZID:America/New_York
BEGIN:DAYLIGHT
TZOFFSETFROM:-0500
TZOFFSETTO:-0400
TZNAME:EDT
DTSTART:20240310T070000
END:DAYLIGHT
BEGIN:STANDARD
TZOFFSETFROM:-0400
TZOFFSETTO:-0500
TZNAME:EST
DTSTART:20241103T060000
END:STANDARD
BEGIN:DAYLIGHT
TZOFFSETFROM:-0500
TZOFFSETTO:-0400
TZNAME:EDT
DTSTART:20250309T070000
END:DAYLIGHT
BEGIN:STANDARD
TZOFFSETFROM:-0400
TZOFFSETTO:-0500
TZNAME:EST
DTSTART:20251102T060000
END:STANDARD
BEGIN:DAYLIGHT
TZOFFSETFROM:-0500
TZOFFSETTO:-0400
TZNAME:EDT
DTSTART:20260308T070000
END:DAYLIGHT
BEGIN:STANDARD
TZOFFSETFROM:-0400
TZOFFSETTO:-0500
TZNAME:EST
DTSTART:20261101T060000
END:STANDARD
BEGIN:DAYLIGHT
TZOFFSETFROM:-0500
TZOFFSETTO:-0400
TZNAME:EDT
DTSTART:20270314T070000
END:DAYLIGHT
BEGIN:STANDARD
TZOFFSETFROM:-0400
TZOFFSETTO:-0500
TZNAME:EST
DTSTART:20271107T060000
END:STANDARD
END:VTIMEZONE
BEGIN:VEVENT
DTSTART;TZID=America/New_York:20260328T080000
DTEND;TZID=America/New_York:20260328T123000
DTSTAMP:20260424T164815
CREATED:20260304T155250Z
LAST-MODIFIED:20260305T174942Z
UID:10035205-1774684800-1774701000@wjtl.com
SUMMARY:Lancaster E3Summit Youth Workers Conference
DESCRIPTION:Half day Conference for equipping\, encouraging & empowering youth workers.\nKeynote speaker: Josh Beers
URL:https://wjtl.com/event/lancaster-e3summit-youth-workers-conference/
LOCATION:Lancaster Bible College- Teague Library- 4th floor\, 901 Eden Rd- Teague Library- 4th floor\, Lancaster\, PA\, 17601\, United States
CATEGORIES:Community Events
ATTACH;FMTTYPE=image/png:https://wjtl.com/wp-content/uploads/2026/03/E3Summit.png
GEO:40.0378755;-76.3055144
X-APPLE-STRUCTURED-LOCATION;VALUE=URI;X-ADDRESS=Lancaster Bible College- Teague Library- 4th floor 901 Eden Rd- Teague Library- 4th floor Lancaster PA 17601 United States;X-APPLE-RADIUS=500;X-TITLE=901 Eden Rd- Teague Library- 4th floor:geo:-76.3055144,40.0378755
END:VEVENT
BEGIN:VEVENT
DTSTART;TZID=America/New_York:20251023T093000
DTEND;TZID=America/New_York:20251023T113000
DTSTAMP:20260424T164815
CREATED:20250724T160157Z
LAST-MODIFIED:20250728T141516Z
UID:10034202-1761211800-1761219000@wjtl.com
SUMMARY:Connect Children's Ministry network
DESCRIPTION:Connect Children’s Ministry is dedicated to strengthening local children’s ministries through purposeful networking. Our mission is to inspire\, equip\, encourage\, and support one another—so that both individually and collectively\, we can make a greater impact.
URL:https://wjtl.com/event/connect-childrens-ministry-network/
LOCATION:Lancaster Bible College- Teague Library- 4th floor\, 901 Eden Rd- Teague Library- 4th floor\, Lancaster\, PA\, 17601\, United States
CATEGORIES:Community Events
GEO:40.0378755;-76.3055144
X-APPLE-STRUCTURED-LOCATION;VALUE=URI;X-ADDRESS=Lancaster Bible College- Teague Library- 4th floor 901 Eden Rd- Teague Library- 4th floor Lancaster PA 17601 United States;X-APPLE-RADIUS=500;X-TITLE=901 Eden Rd- Teague Library- 4th floor:geo:-76.3055144,40.0378755
END:VEVENT
END:VCALENDAR