BEGIN:VCALENDAR
VERSION:2.0
PRODID:-//WJTL FM 90.3 - Christ. Community. Music. - ECPv6.15.20//NONSGML v1.0//EN
CALSCALE:GREGORIAN
METHOD:PUBLISH
X-ORIGINAL-URL:https://wjtl.com
X-WR-CALDESC:Events for WJTL FM 90.3 - Christ. Community. Music.
REFRESH-INTERVAL;VALUE=DURATION:PT1H
X-Robots-Tag:noindex
X-PUBLISHED-TTL:PT1H
BEGIN:VTIMEZONE
TZID:America/New_York
BEGIN:DAYLIGHT
TZOFFSETFROM:-0500
TZOFFSETTO:-0400
TZNAME:EDT
DTSTART:20250309T070000
END:DAYLIGHT
BEGIN:STANDARD
TZOFFSETFROM:-0400
TZOFFSETTO:-0500
TZNAME:EST
DTSTART:20251102T060000
END:STANDARD
BEGIN:DAYLIGHT
TZOFFSETFROM:-0500
TZOFFSETTO:-0400
TZNAME:EDT
DTSTART:20260308T070000
END:DAYLIGHT
BEGIN:STANDARD
TZOFFSETFROM:-0400
TZOFFSETTO:-0500
TZNAME:EST
DTSTART:20261101T060000
END:STANDARD
BEGIN:DAYLIGHT
TZOFFSETFROM:-0500
TZOFFSETTO:-0400
TZNAME:EDT
DTSTART:20270314T070000
END:DAYLIGHT
BEGIN:STANDARD
TZOFFSETFROM:-0400
TZOFFSETTO:-0500
TZNAME:EST
DTSTART:20271107T060000
END:STANDARD
END:VTIMEZONE
BEGIN:VEVENT
DTSTART;TZID=America/New_York:20260501T190000
DTEND;TZID=America/New_York:20260501T200000
DTSTAMP:20260424T065828
CREATED:20260423T124813Z
LAST-MODIFIED:20260423T144609Z
UID:10035455-1777662000-1777665600@wjtl.com
SUMMARY:Lancaster County Christian School's Newsies Jr.
DESCRIPTION:When powerful newspaper publishers raise prices at the newsboys’ expense\, the charismatic Jack Kelly rallies newsies from across the city to strike against the unfair conditions. Together\, the newsies learn that they are stronger united and create a movement to fight for what’s right. The 60-minute musical is geared towards families and children of all ages. \nOur middle and upper school cast\, led by director Holly Wert and music director Amanda DeKok\, have been working diligently to prepare an entertaining and heartwarming show for audiences of all ages. We would love for you to join us! \nTickets may be purchased at the door or online. Cost: $15 general admission; $10 students/alumni; children 3 and under free. For additional information and to purchase advance tickets online\, visit https://lccs.cc/newsies
URL:https://wjtl.com/event/lancaster-county-christian-schools-newsies-jr/
LOCATION:Lancaster County Christian School\, 2390 New Holland Pike\, Lancaster\, PA\, 17601\, United States
CATEGORIES:Community Events
ATTACH;FMTTYPE=image/png:https://wjtl.com/wp-content/uploads/2026/04/Copy-of-Newsies-Jr-Event-Graphic.png
END:VEVENT
BEGIN:VEVENT
DTSTART;TZID=America/New_York:20260502T140000
DTEND;TZID=America/New_York:20260502T150000
DTSTAMP:20260424T065828
CREATED:20260423T125938Z
LAST-MODIFIED:20260423T204600Z
UID:10035456-1777730400-1777734000@wjtl.com
SUMMARY:Lancaster County Christian School Presents Newsies Jr.
DESCRIPTION:When powerful newspaper publishers raise prices at the newsboys’ expense\, the charismatic Jack Kelly rallies newsies from across the city to strike against the unfair conditions. Together\, the newsies learn that they are stronger united and create a movement to fight for what’s right. The 60-minute musical is geared towards families and children of all ages. \nOur middle and upper school cast\, led by director Holly Wert and music director Amanda DeKok\, have been working diligently to prepare an entertaining and heartwarming show for audiences of all ages. We would love for you to join us! \nTickets may be purchased at the door or online. Cost: $15 general admission; $10 students/alumni; children 3 and under free. For additional information and to purchase advance tickets online\, visit https://lccs.cc/newsies
URL:https://wjtl.com/event/lancaster-county-christian-school-presents-newsies-jr/
LOCATION:Lancaster County Christian School\, 2390 New Holland Pike\, Lancaster\, PA\, 17601\, United States
CATEGORIES:Community Events
END:VEVENT
BEGIN:VEVENT
DTSTART;TZID=America/New_York:20260502T190000
DTEND;TZID=America/New_York:20260502T200000
DTSTAMP:20260424T065828
CREATED:20260423T130207Z
LAST-MODIFIED:20260423T145031Z
UID:10035457-1777748400-1777752000@wjtl.com
SUMMARY:Lancaster County Christian School Presents Newsies Jr.
DESCRIPTION:When powerful newspaper publishers raise prices at the newsboys’ expense\, the charismatic Jack Kelly rallies newsies from across the city to strike against the unfair conditions. Together\, the newsies learn that they are stronger united and create a movement to fight for what’s right. The 60-minute musical is geared towards families and children of all ages. \nOur middle and upper school cast\, led by director Holly Wert and music director Amanda DeKok\, have been working diligently to prepare an entertaining and heartwarming show for audiences of all ages. We would love for you to join us! \nTickets may be purchased at the door or online. Cost: $15 general admission; $10 students/alumni; children 3 and under free. For additional information and to purchase advance tickets online\, visit https://lccs.cc/newsies
URL:https://wjtl.com/event/lancaster-county-christian-school-presents-newsies-jr-2/
LOCATION:Lancaster County Christian School\, 2390 New Holland Pike\, Lancaster\, PA\, 17601\, United States
CATEGORIES:Community Events
ATTACH;FMTTYPE=image/png:https://wjtl.com/wp-content/uploads/2026/04/Copy-of-Newsies-Jr-Event-Graphic1.png
END:VEVENT
BEGIN:VEVENT
DTSTART;TZID=America/New_York:20260503T150000
DTEND;TZID=America/New_York:20260503T160000
DTSTAMP:20260424T065828
CREATED:20260423T140338Z
LAST-MODIFIED:20260423T145101Z
UID:10035458-1777820400-1777824000@wjtl.com
SUMMARY:Lancaster County Christian School Presents Newsies Jr.
DESCRIPTION:When powerful newspaper publishers raise prices at the newsboys’ expense\, the charismatic Jack Kelly rallies newsies from across the city to strike against the unfair conditions. Together\, the newsies learn that they are stronger united and create a movement to fight for what’s right. The 60-minute musical is geared towards families and children of all ages. \nOur middle and upper school cast\, led by director Holly Wert and music director Amanda DeKok\, have been working diligently to prepare an entertaining and heartwarming show for audiences of all ages. We would love for you to join us! \nTickets may be purchased at the door or online. Cost: $15 general admission; $10 students/alumni; children 3 and under free. For additional information and to purchase advance tickets online\, visit https://lccs.cc/newsies
URL:https://wjtl.com/event/lancaster-county-christian-school-presents-newsies-jr-3/
LOCATION:Lancaster County Christian School\, 2390 New Holland Pike\, Lancaster\, PA\, 17601\, United States
CATEGORIES:Community Events
ATTACH;FMTTYPE=image/png:https://wjtl.com/wp-content/uploads/2026/04/Copy-of-Newsies-Jr-Event-Graphic2.png
END:VEVENT
END:VCALENDAR