BEGIN:VCALENDAR
VERSION:2.0
PRODID:-//WJTL FM 90.3 - Christ. Community. Music. - ECPv6.15.20//NONSGML v1.0//EN
CALSCALE:GREGORIAN
METHOD:PUBLISH
X-WR-CALNAME:WJTL FM 90.3 - Christ. Community. Music.
X-ORIGINAL-URL:https://wjtl.com
X-WR-CALDESC:Events for WJTL FM 90.3 - Christ. Community. Music.
REFRESH-INTERVAL;VALUE=DURATION:PT1H
X-Robots-Tag:noindex
X-PUBLISHED-TTL:PT1H
BEGIN:VTIMEZONE
TZID:America/New_York
BEGIN:DAYLIGHT
TZOFFSETFROM:-0500
TZOFFSETTO:-0400
TZNAME:EDT
DTSTART:20250309T070000
END:DAYLIGHT
BEGIN:STANDARD
TZOFFSETFROM:-0400
TZOFFSETTO:-0500
TZNAME:EST
DTSTART:20251102T060000
END:STANDARD
BEGIN:DAYLIGHT
TZOFFSETFROM:-0500
TZOFFSETTO:-0400
TZNAME:EDT
DTSTART:20260308T070000
END:DAYLIGHT
BEGIN:STANDARD
TZOFFSETFROM:-0400
TZOFFSETTO:-0500
TZNAME:EST
DTSTART:20261101T060000
END:STANDARD
BEGIN:DAYLIGHT
TZOFFSETFROM:-0500
TZOFFSETTO:-0400
TZNAME:EDT
DTSTART:20270314T070000
END:DAYLIGHT
BEGIN:STANDARD
TZOFFSETFROM:-0400
TZOFFSETTO:-0500
TZNAME:EST
DTSTART:20271107T060000
END:STANDARD
END:VTIMEZONE
BEGIN:VEVENT
DTSTART;TZID=America/New_York:20260512T070000
DTEND;TZID=America/New_York:20260512T180000
DTSTAMP:20260424T143928
CREATED:20260218T175954Z
LAST-MODIFIED:20260219T161517Z
UID:10035148-1778569200-1778608800@wjtl.com
SUMMARY:30th Annual LM Golf Tournament – May 12\, 2026
DESCRIPTION:Join us for the 30th Annual Lancaster Mennonite Golf Tournament to be held at Meadia Heights Golf Club\, 402 Golf Road\, Lancaster\, on Tuesday\, May 12\, 2026. All event proceeds support Christ-centered education at Lancaster Mennonite. \nCost: $150 per golfer\nCreate a womens\, mens\, mixed\, or senior foursome. Register as single or double and we will place you in a foursome for the day. A mixed team is defined as a foursome with at least two women. A senior team must have three golfers who are age 65 or older. \nGolfers will have the opportunity to purchase mulligans and enter day of competitions. There will also be an exciting prize for any player who obtains a hole in one on our designated hole! \nTeam and individual skill prizes will be awarded after each round. Team prizes awarded for men\, women\, mixed and senior teams.
URL:https://wjtl.com/event/30th-annual-lm-golf-tournament-may-12-2026/
LOCATION:Media Heights Golf Club\, 402 golf road\, Lancaster\, PA\, 17601\, United States
CATEGORIES:Community Events
ATTACH;FMTTYPE=image/jpeg:https://wjtl.com/wp-content/uploads/2026/02/Golf-QGiv-Graphic-2026-500x300-px-1.jpg
END:VEVENT
END:VCALENDAR