BEGIN:VCALENDAR
VERSION:2.0
PRODID:-//WJTL FM 90.3 - Christ. Community. Music. - ECPv6.15.20//NONSGML v1.0//EN
CALSCALE:GREGORIAN
METHOD:PUBLISH
X-ORIGINAL-URL:https://wjtl.com
X-WR-CALDESC:Events for WJTL FM 90.3 - Christ. Community. Music.
REFRESH-INTERVAL;VALUE=DURATION:PT1H
X-Robots-Tag:noindex
X-PUBLISHED-TTL:PT1H
BEGIN:VTIMEZONE
TZID:America/New_York
BEGIN:DAYLIGHT
TZOFFSETFROM:-0500
TZOFFSETTO:-0400
TZNAME:EDT
DTSTART:20240310T070000
END:DAYLIGHT
BEGIN:STANDARD
TZOFFSETFROM:-0400
TZOFFSETTO:-0500
TZNAME:EST
DTSTART:20241103T060000
END:STANDARD
BEGIN:DAYLIGHT
TZOFFSETFROM:-0500
TZOFFSETTO:-0400
TZNAME:EDT
DTSTART:20250309T070000
END:DAYLIGHT
BEGIN:STANDARD
TZOFFSETFROM:-0400
TZOFFSETTO:-0500
TZNAME:EST
DTSTART:20251102T060000
END:STANDARD
BEGIN:DAYLIGHT
TZOFFSETFROM:-0500
TZOFFSETTO:-0400
TZNAME:EDT
DTSTART:20260308T070000
END:DAYLIGHT
BEGIN:STANDARD
TZOFFSETFROM:-0400
TZOFFSETTO:-0500
TZNAME:EST
DTSTART:20261101T060000
END:STANDARD
END:VTIMEZONE
BEGIN:VEVENT
DTSTART;TZID=America/New_York:20250927T090000
DTEND;TZID=America/New_York:20250927T120000
DTSTAMP:20260421T162956
CREATED:20250826T142355Z
LAST-MODIFIED:20250828T140743Z
UID:10034326-1758963600-1758974400@wjtl.com
SUMMARY:MCCS Kids Fest
DESCRIPTION:Support Mount Calvary Christian School while having a blast at our Kids Fest on Saturday\, September 27 from 9AM-12PM! A $5 wristband includes carnival games\, bounce house\, face painting\, a dunk tank\, and more! New this year: the music of Jared Erb and a touch-a-truck lineup! \nLocated at Mount Calvary Christian School (playground parking lot): 629 Holly St. Elizabethtown\, PA 17022.
URL:https://wjtl.com/event/mccs-kids-fest/
LOCATION:Mount Calvary Christian School\, 629 Holly St\, Elizabethtown\, PA\, 17022\, United States
CATEGORIES:Community Events
ATTACH;FMTTYPE=image/png:https://wjtl.com/wp-content/uploads/2025/08/Auction-Kids-2025-2.png
GEO:40.1646785;-76.6057986
X-APPLE-STRUCTURED-LOCATION;VALUE=URI;X-ADDRESS=Mount Calvary Christian School 629 Holly St Elizabethtown PA 17022 United States;X-APPLE-RADIUS=500;X-TITLE=629 Holly St:geo:-76.6057986,40.1646785
END:VEVENT
END:VCALENDAR