BEGIN:VCALENDAR
VERSION:2.0
PRODID:-//WJTL FM 90.3 - Christ. Community. Music. - ECPv6.15.20//NONSGML v1.0//EN
CALSCALE:GREGORIAN
METHOD:PUBLISH
X-WR-CALNAME:WJTL FM 90.3 - Christ. Community. Music.
X-ORIGINAL-URL:https://wjtl.com
X-WR-CALDESC:Events for WJTL FM 90.3 - Christ. Community. Music.
REFRESH-INTERVAL;VALUE=DURATION:PT1H
X-Robots-Tag:noindex
X-PUBLISHED-TTL:PT1H
BEGIN:VTIMEZONE
TZID:America/New_York
BEGIN:DAYLIGHT
TZOFFSETFROM:-0500
TZOFFSETTO:-0400
TZNAME:EDT
DTSTART:20240310T070000
END:DAYLIGHT
BEGIN:STANDARD
TZOFFSETFROM:-0400
TZOFFSETTO:-0500
TZNAME:EST
DTSTART:20241103T060000
END:STANDARD
BEGIN:DAYLIGHT
TZOFFSETFROM:-0500
TZOFFSETTO:-0400
TZNAME:EDT
DTSTART:20250309T070000
END:DAYLIGHT
BEGIN:STANDARD
TZOFFSETFROM:-0400
TZOFFSETTO:-0500
TZNAME:EST
DTSTART:20251102T060000
END:STANDARD
BEGIN:DAYLIGHT
TZOFFSETFROM:-0500
TZOFFSETTO:-0400
TZNAME:EDT
DTSTART:20260308T070000
END:DAYLIGHT
BEGIN:STANDARD
TZOFFSETFROM:-0400
TZOFFSETTO:-0500
TZNAME:EST
DTSTART:20261101T060000
END:STANDARD
END:VTIMEZONE
BEGIN:VEVENT
DTSTART;TZID=America/New_York:20250530T190000
DTEND;TZID=America/New_York:20250530T210000
DTSTAMP:20260424T211036
CREATED:20250123T142622Z
LAST-MODIFIED:20250123T142622Z
UID:10026780-1748631600-1748638800@wjtl.com
SUMMARY:Celebrate Recovery
DESCRIPTION:FIND FREEDOM FROM YOUR HURTS\, HANG-UPS\, and HABITS \nThe purpose of Celebrate Recovery is to celebrate God’s healing power in our life through the 12 Steps and 8 Recovery Principles. By working and applying these biblical principles\, we begin to grow spiritually. We become free from addictive\, compulsive\, and dysfunctional behaviors. This freedom creates peace\, serenity\, joy\, and most importantly\, a stronger personal relationship with God and others. \nCelebrate Recovery provides a “Safe Place” for real life change in Jesus Christ. As participants personally work through biblically-based steps in the context of the Christian community\, we recognize truth\, that we need each other to grow personally and spiritually. This is a place we can fully become who God created us to be. \nIf you are struggling with Hurts\, Hang-Ups\, and Habits and looking for a group to support you – we are here for you. You are invited to join us at
URL:https://wjtl.com/event/celebrate-recovery/2025-05-30/
LOCATION:New Beginnings Church of the Cross\, 1 Penn Ave\, Christiana\, PA\, 17509\, United States
CATEGORIES:Community Events
ATTACH;FMTTYPE=image/jpeg:https://wjtl.com/wp-content/uploads/2025/01/CR-Logo-CircleText-RGB.jpg
ORGANIZER;CN="New Beginnings Church of the Cross":MAILTO:jtnospam@hotmail.com
END:VEVENT
BEGIN:VEVENT
DTSTART;TZID=America/New_York:20250523T190000
DTEND;TZID=America/New_York:20250523T210000
DTSTAMP:20260424T211036
CREATED:20250123T142622Z
LAST-MODIFIED:20250123T142622Z
UID:10026779-1748026800-1748034000@wjtl.com
SUMMARY:Celebrate Recovery
DESCRIPTION:FIND FREEDOM FROM YOUR HURTS\, HANG-UPS\, and HABITS \nThe purpose of Celebrate Recovery is to celebrate God’s healing power in our life through the 12 Steps and 8 Recovery Principles. By working and applying these biblical principles\, we begin to grow spiritually. We become free from addictive\, compulsive\, and dysfunctional behaviors. This freedom creates peace\, serenity\, joy\, and most importantly\, a stronger personal relationship with God and others. \nCelebrate Recovery provides a “Safe Place” for real life change in Jesus Christ. As participants personally work through biblically-based steps in the context of the Christian community\, we recognize truth\, that we need each other to grow personally and spiritually. This is a place we can fully become who God created us to be. \nIf you are struggling with Hurts\, Hang-Ups\, and Habits and looking for a group to support you – we are here for you. You are invited to join us at
URL:https://wjtl.com/event/celebrate-recovery/2025-05-23/
LOCATION:New Beginnings Church of the Cross\, 1 Penn Ave\, Christiana\, PA\, 17509\, United States
CATEGORIES:Community Events
ATTACH;FMTTYPE=image/jpeg:https://wjtl.com/wp-content/uploads/2025/01/CR-Logo-CircleText-RGB.jpg
ORGANIZER;CN="New Beginnings Church of the Cross":MAILTO:jtnospam@hotmail.com
END:VEVENT
BEGIN:VEVENT
DTSTART;TZID=America/New_York:20250516T190000
DTEND;TZID=America/New_York:20250516T210000
DTSTAMP:20260424T211036
CREATED:20250123T142622Z
LAST-MODIFIED:20250123T142622Z
UID:10026778-1747422000-1747429200@wjtl.com
SUMMARY:Celebrate Recovery
DESCRIPTION:FIND FREEDOM FROM YOUR HURTS\, HANG-UPS\, and HABITS \nThe purpose of Celebrate Recovery is to celebrate God’s healing power in our life through the 12 Steps and 8 Recovery Principles. By working and applying these biblical principles\, we begin to grow spiritually. We become free from addictive\, compulsive\, and dysfunctional behaviors. This freedom creates peace\, serenity\, joy\, and most importantly\, a stronger personal relationship with God and others. \nCelebrate Recovery provides a “Safe Place” for real life change in Jesus Christ. As participants personally work through biblically-based steps in the context of the Christian community\, we recognize truth\, that we need each other to grow personally and spiritually. This is a place we can fully become who God created us to be. \nIf you are struggling with Hurts\, Hang-Ups\, and Habits and looking for a group to support you – we are here for you. You are invited to join us at
URL:https://wjtl.com/event/celebrate-recovery/2025-05-16/
LOCATION:New Beginnings Church of the Cross\, 1 Penn Ave\, Christiana\, PA\, 17509\, United States
CATEGORIES:Community Events
ATTACH;FMTTYPE=image/jpeg:https://wjtl.com/wp-content/uploads/2025/01/CR-Logo-CircleText-RGB.jpg
ORGANIZER;CN="New Beginnings Church of the Cross":MAILTO:jtnospam@hotmail.com
END:VEVENT
BEGIN:VEVENT
DTSTART;TZID=America/New_York:20250509T190000
DTEND;TZID=America/New_York:20250509T210000
DTSTAMP:20260424T211036
CREATED:20250123T142622Z
LAST-MODIFIED:20250123T142622Z
UID:10026777-1746817200-1746824400@wjtl.com
SUMMARY:Celebrate Recovery
DESCRIPTION:FIND FREEDOM FROM YOUR HURTS\, HANG-UPS\, and HABITS \nThe purpose of Celebrate Recovery is to celebrate God’s healing power in our life through the 12 Steps and 8 Recovery Principles. By working and applying these biblical principles\, we begin to grow spiritually. We become free from addictive\, compulsive\, and dysfunctional behaviors. This freedom creates peace\, serenity\, joy\, and most importantly\, a stronger personal relationship with God and others. \nCelebrate Recovery provides a “Safe Place” for real life change in Jesus Christ. As participants personally work through biblically-based steps in the context of the Christian community\, we recognize truth\, that we need each other to grow personally and spiritually. This is a place we can fully become who God created us to be. \nIf you are struggling with Hurts\, Hang-Ups\, and Habits and looking for a group to support you – we are here for you. You are invited to join us at
URL:https://wjtl.com/event/celebrate-recovery/2025-05-09/
LOCATION:New Beginnings Church of the Cross\, 1 Penn Ave\, Christiana\, PA\, 17509\, United States
CATEGORIES:Community Events
ATTACH;FMTTYPE=image/jpeg:https://wjtl.com/wp-content/uploads/2025/01/CR-Logo-CircleText-RGB.jpg
ORGANIZER;CN="New Beginnings Church of the Cross":MAILTO:jtnospam@hotmail.com
END:VEVENT
BEGIN:VEVENT
DTSTART;TZID=America/New_York:20250502T190000
DTEND;TZID=America/New_York:20250502T210000
DTSTAMP:20260424T211036
CREATED:20250123T142622Z
LAST-MODIFIED:20250123T142622Z
UID:10026776-1746212400-1746219600@wjtl.com
SUMMARY:Celebrate Recovery
DESCRIPTION:FIND FREEDOM FROM YOUR HURTS\, HANG-UPS\, and HABITS \nThe purpose of Celebrate Recovery is to celebrate God’s healing power in our life through the 12 Steps and 8 Recovery Principles. By working and applying these biblical principles\, we begin to grow spiritually. We become free from addictive\, compulsive\, and dysfunctional behaviors. This freedom creates peace\, serenity\, joy\, and most importantly\, a stronger personal relationship with God and others. \nCelebrate Recovery provides a “Safe Place” for real life change in Jesus Christ. As participants personally work through biblically-based steps in the context of the Christian community\, we recognize truth\, that we need each other to grow personally and spiritually. This is a place we can fully become who God created us to be. \nIf you are struggling with Hurts\, Hang-Ups\, and Habits and looking for a group to support you – we are here for you. You are invited to join us at
URL:https://wjtl.com/event/celebrate-recovery/2025-05-02/
LOCATION:New Beginnings Church of the Cross\, 1 Penn Ave\, Christiana\, PA\, 17509\, United States
CATEGORIES:Community Events
ATTACH;FMTTYPE=image/jpeg:https://wjtl.com/wp-content/uploads/2025/01/CR-Logo-CircleText-RGB.jpg
ORGANIZER;CN="New Beginnings Church of the Cross":MAILTO:jtnospam@hotmail.com
END:VEVENT
BEGIN:VEVENT
DTSTART;TZID=America/New_York:20250425T190000
DTEND;TZID=America/New_York:20250425T210000
DTSTAMP:20260424T211036
CREATED:20250123T142622Z
LAST-MODIFIED:20250123T142622Z
UID:10026775-1745607600-1745614800@wjtl.com
SUMMARY:Celebrate Recovery
DESCRIPTION:FIND FREEDOM FROM YOUR HURTS\, HANG-UPS\, and HABITS \nThe purpose of Celebrate Recovery is to celebrate God’s healing power in our life through the 12 Steps and 8 Recovery Principles. By working and applying these biblical principles\, we begin to grow spiritually. We become free from addictive\, compulsive\, and dysfunctional behaviors. This freedom creates peace\, serenity\, joy\, and most importantly\, a stronger personal relationship with God and others. \nCelebrate Recovery provides a “Safe Place” for real life change in Jesus Christ. As participants personally work through biblically-based steps in the context of the Christian community\, we recognize truth\, that we need each other to grow personally and spiritually. This is a place we can fully become who God created us to be. \nIf you are struggling with Hurts\, Hang-Ups\, and Habits and looking for a group to support you – we are here for you. You are invited to join us at
URL:https://wjtl.com/event/celebrate-recovery/2025-04-25/
LOCATION:New Beginnings Church of the Cross\, 1 Penn Ave\, Christiana\, PA\, 17509\, United States
CATEGORIES:Community Events
ATTACH;FMTTYPE=image/jpeg:https://wjtl.com/wp-content/uploads/2025/01/CR-Logo-CircleText-RGB.jpg
ORGANIZER;CN="New Beginnings Church of the Cross":MAILTO:jtnospam@hotmail.com
END:VEVENT
END:VCALENDAR