BEGIN:VCALENDAR
VERSION:2.0
PRODID:-//WJTL FM 90.3 - Christ. Community. Music. - ECPv6.15.20//NONSGML v1.0//EN
CALSCALE:GREGORIAN
METHOD:PUBLISH
X-WR-CALNAME:WJTL FM 90.3 - Christ. Community. Music.
X-ORIGINAL-URL:https://wjtl.com
X-WR-CALDESC:Events for WJTL FM 90.3 - Christ. Community. Music.
REFRESH-INTERVAL;VALUE=DURATION:PT1H
X-Robots-Tag:noindex
X-PUBLISHED-TTL:PT1H
BEGIN:VTIMEZONE
TZID:America/New_York
BEGIN:DAYLIGHT
TZOFFSETFROM:-0500
TZOFFSETTO:-0400
TZNAME:EDT
DTSTART:20240310T070000
END:DAYLIGHT
BEGIN:STANDARD
TZOFFSETFROM:-0400
TZOFFSETTO:-0500
TZNAME:EST
DTSTART:20241103T060000
END:STANDARD
BEGIN:DAYLIGHT
TZOFFSETFROM:-0500
TZOFFSETTO:-0400
TZNAME:EDT
DTSTART:20250309T070000
END:DAYLIGHT
BEGIN:STANDARD
TZOFFSETFROM:-0400
TZOFFSETTO:-0500
TZNAME:EST
DTSTART:20251102T060000
END:STANDARD
BEGIN:DAYLIGHT
TZOFFSETFROM:-0500
TZOFFSETTO:-0400
TZNAME:EDT
DTSTART:20260308T070000
END:DAYLIGHT
BEGIN:STANDARD
TZOFFSETFROM:-0400
TZOFFSETTO:-0500
TZNAME:EST
DTSTART:20261101T060000
END:STANDARD
END:VTIMEZONE
BEGIN:VEVENT
DTSTART;TZID=America/New_York:20251023T170000
DTEND;TZID=America/New_York:20251023T191500
DTSTAMP:20260424T195346
CREATED:20251004T202113Z
LAST-MODIFIED:20251006T142700Z
UID:10034485-1761238800-1761246900@wjtl.com
SUMMARY:Fall Family Festival
DESCRIPTION:Free fall fun for the whole family! Come out for loads of fun and candy. Register at link provided by 10/18  to help ensure we have enough food and get extra door prize entries.\nFun includes…\nInflatable Bounce houses\nGrilled Costco Hot dogs\nS’more corner\nHot and cold Cider\nGames\nBarrel Train Ride\nGrantville Fire Truck\nKid/Family Program by Jeremiah Gruber @ 6:00pm\nMany Door Prizes (will be drawn after program must be present to claim prizes)\nand much more……
URL:https://wjtl.com/event/fall-family-festival-2/
LOCATION:New Life Assembly of God in Grantville\, 9812 Allentown Blvd\, Grantville\, PA\, 17028\, United States
CATEGORIES:Community Events
END:VEVENT
END:VCALENDAR