BEGIN:VCALENDAR
VERSION:2.0
PRODID:-//WJTL FM 90.3 - Christ. Community. Music. - ECPv6.15.20//NONSGML v1.0//EN
CALSCALE:GREGORIAN
METHOD:PUBLISH
X-ORIGINAL-URL:https://wjtl.com
X-WR-CALDESC:Events for WJTL FM 90.3 - Christ. Community. Music.
REFRESH-INTERVAL;VALUE=DURATION:PT1H
X-Robots-Tag:noindex
X-PUBLISHED-TTL:PT1H
BEGIN:VTIMEZONE
TZID:America/New_York
BEGIN:DAYLIGHT
TZOFFSETFROM:-0500
TZOFFSETTO:-0400
TZNAME:EDT
DTSTART:20240310T070000
END:DAYLIGHT
BEGIN:STANDARD
TZOFFSETFROM:-0400
TZOFFSETTO:-0500
TZNAME:EST
DTSTART:20241103T060000
END:STANDARD
BEGIN:DAYLIGHT
TZOFFSETFROM:-0500
TZOFFSETTO:-0400
TZNAME:EDT
DTSTART:20250309T070000
END:DAYLIGHT
BEGIN:STANDARD
TZOFFSETFROM:-0400
TZOFFSETTO:-0500
TZNAME:EST
DTSTART:20251102T060000
END:STANDARD
BEGIN:DAYLIGHT
TZOFFSETFROM:-0500
TZOFFSETTO:-0400
TZNAME:EDT
DTSTART:20260308T070000
END:DAYLIGHT
BEGIN:STANDARD
TZOFFSETFROM:-0400
TZOFFSETTO:-0500
TZNAME:EST
DTSTART:20261101T060000
END:STANDARD
BEGIN:DAYLIGHT
TZOFFSETFROM:-0500
TZOFFSETTO:-0400
TZNAME:EDT
DTSTART:20270314T070000
END:DAYLIGHT
BEGIN:STANDARD
TZOFFSETFROM:-0400
TZOFFSETTO:-0500
TZNAME:EST
DTSTART:20271107T060000
END:STANDARD
END:VTIMEZONE
BEGIN:VEVENT
DTSTART;TZID=America/New_York:20260314T103000
DTEND;TZID=America/New_York:20260314T103000
DTSTAMP:20260424T153811
CREATED:20260124T231915Z
LAST-MODIFIED:20260124T231915Z
UID:10035027-1773484200-1773484200@wjtl.com
SUMMARY:Oregon Dairy's Warehouse Theater: Forgotten Friend Kids Show
DESCRIPTION:Jesse is back with his beloved reptiles to bring a fun\, educational show featuring 15 reptiles from around the world\, including snakes\, lizards\, turtles\, and crocodilians! Forgotten Friend Reptile Sanctuary is a 501(c)(3) reptile rescue located in Lancaster County\, PA. This show is family favorite and fun for kids of all ages! Shows on Saturday\, March 14\, 2026. \nShow Times @ 10:30am & 1:30pm and last an hour each. \nTickets for the Forgotten Friend Live Reptile show are $4.00 per person and children 2 and under are Free. Tickets to the Warehouse Theatre Show includes Free “Fresh Popped” Popcorn\, Free Sample of Oregon Dairy’s Famous Chocolate Milk and for the Big Kids\, Free Coffee!
URL:https://wjtl.com/event/oregon-dairys-warehouse-theater-forgotten-friend-kids-show/
LOCATION:Oregon Dairy\, 2900 Oregon Pike\, Lititz\, PA\, 17543\, United States
CATEGORIES:Community Events
END:VEVENT
BEGIN:VEVENT
DTSTART;TZID=America/New_York:20250612T100000
DTEND;TZID=America/New_York:20250612T160000
DTSTAMP:20260424T153811
CREATED:20250310T160401Z
LAST-MODIFIED:20250310T160401Z
UID:10030721-1749722400-1749744000@wjtl.com
SUMMARY:Family Farm Days at Oregon Dairy Farmstead
DESCRIPTION:Visit Oregon Dairy Farmstead for our Family Farm Days this June! Partnered with Lancaster County Agriculture Council. Enjoy loads of free activities for people of all ages\, free Oregon Dairy samples\, barnyard theater presentations throughout the day\, wagon and train rides\, great food and so much more! Visit the “Family Farm Days” page on our website for more details. \n2025 Family Farm Days\nJune 10\, 11\, & 12\, 2025\nTuesday\, June 10 Hours: 10am – 4pm\nWednesday\, June 11: Hours: 10am – 7pm\nMade In PA Product Exhibitors Featured on Wednesday Only!\nThursday\, June 12 Hours: 10am – 4pm\n*Please note\, Peak Times are 10am – 12noon daily. If you come during that time\, expect to wait in a long line to get on the wagons to go to the farm.\nFor your safety\, walking to the farm is not permitted.
URL:https://wjtl.com/event/family-farm-days-at-oregon-dairy-farmstead/2025-06-12/
LOCATION:Oregon Dairy\, 2900 Oregon Pike\, Lititz\, PA\, 17543\, United States
CATEGORIES:Community Events
ATTACH;FMTTYPE=image/png:https://wjtl.com/wp-content/uploads/2025/03/2025-facebook-event-cover-farm-days.png
ORGANIZER;CN="Oregon Dairy Farmstead":MAILTO:maria.forry@oregondairyfarmstead.com
END:VEVENT
BEGIN:VEVENT
DTSTART;TZID=America/New_York:20250611T100000
DTEND;TZID=America/New_York:20250611T190000
DTSTAMP:20260424T153811
CREATED:20250310T160401Z
LAST-MODIFIED:20250310T160401Z
UID:10030720-1749636000-1749668400@wjtl.com
SUMMARY:Family Farm Days at Oregon Dairy Farmstead
DESCRIPTION:Visit Oregon Dairy Farmstead for our Family Farm Days this June! Partnered with Lancaster County Agriculture Council. Enjoy loads of free activities for people of all ages\, free Oregon Dairy samples\, barnyard theater presentations throughout the day\, wagon and train rides\, great food and so much more! Visit the “Family Farm Days” page on our website for more details. \n2025 Family Farm Days\nJune 10\, 11\, & 12\, 2025\nTuesday\, June 10 Hours: 10am – 4pm\nWednesday\, June 11: Hours: 10am – 7pm\nMade In PA Product Exhibitors Featured on Wednesday Only!\nThursday\, June 12 Hours: 10am – 4pm\n*Please note\, Peak Times are 10am – 12noon daily. If you come during that time\, expect to wait in a long line to get on the wagons to go to the farm.\nFor your safety\, walking to the farm is not permitted.
URL:https://wjtl.com/event/family-farm-days-at-oregon-dairy-farmstead/2025-06-11/
LOCATION:Oregon Dairy\, 2900 Oregon Pike\, Lititz\, PA\, 17543\, United States
CATEGORIES:Community Events
ATTACH;FMTTYPE=image/png:https://wjtl.com/wp-content/uploads/2025/03/2025-facebook-event-cover-farm-days.png
ORGANIZER;CN="Oregon Dairy Farmstead":MAILTO:maria.forry@oregondairyfarmstead.com
END:VEVENT
BEGIN:VEVENT
DTSTART;TZID=America/New_York:20250610T100000
DTEND;TZID=America/New_York:20250610T160000
DTSTAMP:20260424T153811
CREATED:20250610T172634Z
LAST-MODIFIED:20250610T172635Z
UID:10030719-1749549600-1749571200@wjtl.com
SUMMARY:Family Farm Days at Oregon Dairy Farmstead
DESCRIPTION:Visit Oregon Dairy Farmstead for our Family Farm Days this June! Partnered with Lancaster County Agriculture Council. Enjoy loads of free activities for people of all ages\, free Oregon Dairy samples\, barnyard theater presentations throughout the day\, wagon and train rides\, great food and so much more! Visit the “Family Farm Days” page on our website for more details. \n2025 Family Farm Days\nJune 10\, 11\, & 12\, 2025\nTuesday\, June 10 Hours: 10am – 4pm  ** Due to excessive rain and extremely muddy conditions\, Family Farm Days is CLOSED on Tuesday\, June 10th.**\nWednesday\, June 11: Hours: 10am – 7pm\nMade In PA Product Exhibitors Featured on Wednesday Only!\nThursday\, June 12 Hours: 10am – 4pm\n*Please note\, Peak Times are 10am – 12noon daily. If you come during that time\, expect to wait in a long line to get on the wagons to go to the farm.\nFor your safety\, walking to the farm is not permitted.
URL:https://wjtl.com/event/family-farm-days-at-oregon-dairy-farmstead-2/
LOCATION:Oregon Dairy\, 2900 Oregon Pike\, Lititz\, PA\, 17543\, United States
CATEGORIES:Community Events
ATTACH;FMTTYPE=image/png:https://wjtl.com/wp-content/uploads/2025/03/2025-facebook-event-cover-farm-days.png
ORGANIZER;CN="Oregon Dairy Farmstead":MAILTO:maria.forry@oregondairyfarmstead.com
END:VEVENT
BEGIN:VEVENT
DTSTART;TZID=America/New_York:20250524T080000
DTEND;TZID=America/New_York:20250524T120000
DTSTAMP:20260424T153811
CREATED:20250403T182003Z
LAST-MODIFIED:20250403T182003Z
UID:10030804-1748073600-1748088000@wjtl.com
SUMMARY:Classic Car Show & Fireman's Festival at Oregon Dairy
DESCRIPTION:Join us for the 21st Annual Country Cruise & Fireman’s Festival Car Show!\n100% of the proceeds benefit West Earl Fire Co.\nFirst 100 registered vehicles receive a goodie bag & dash plaque.\nStreet Rods\, Classics\, Bikes\, Trucks\, Antiques Welcome.\nDoor prizes\, Fireman’s Choice & Participant’s Choice Awards.\nLive music from the band ‘Forgiven’\nJoe’s Famous Wings & Wieners Food Truck\nKids’ Fire Engine Rides – fee\nFeeling lucky? Hospice & Community Care will once again have a vehicle they are raffling off at their Labor Day Auction in September.\nThis year’s car is a 2025 Chevy Trax and it will be on display at our car show from 8am – 12noon and you can purchase tickets for a chance to win it!
URL:https://wjtl.com/event/classic-car-show-firemans-festival-at-oregon-dairy/
LOCATION:Oregon Dairy\, 2900 Oregon Pike\, Lititz\, PA\, 17543\, United States
CATEGORIES:Community Events
ATTACH;FMTTYPE=image/jpeg:https://wjtl.com/wp-content/uploads/2025/04/2025-facebook-event-cover-Car-Show-1.jpg
END:VEVENT
END:VCALENDAR