BEGIN:VCALENDAR
VERSION:2.0
PRODID:-//WJTL FM 90.3 - Christ. Community. Music. - ECPv6.15.20//NONSGML v1.0//EN
CALSCALE:GREGORIAN
METHOD:PUBLISH
X-WR-CALNAME:WJTL FM 90.3 - Christ. Community. Music.
X-ORIGINAL-URL:https://wjtl.com
X-WR-CALDESC:Events for WJTL FM 90.3 - Christ. Community. Music.
REFRESH-INTERVAL;VALUE=DURATION:PT1H
X-Robots-Tag:noindex
X-PUBLISHED-TTL:PT1H
BEGIN:VTIMEZONE
TZID:America/New_York
BEGIN:DAYLIGHT
TZOFFSETFROM:-0500
TZOFFSETTO:-0400
TZNAME:EDT
DTSTART:20250309T070000
END:DAYLIGHT
BEGIN:STANDARD
TZOFFSETFROM:-0400
TZOFFSETTO:-0500
TZNAME:EST
DTSTART:20251102T060000
END:STANDARD
BEGIN:DAYLIGHT
TZOFFSETFROM:-0500
TZOFFSETTO:-0400
TZNAME:EDT
DTSTART:20260308T070000
END:DAYLIGHT
BEGIN:STANDARD
TZOFFSETFROM:-0400
TZOFFSETTO:-0500
TZNAME:EST
DTSTART:20261101T060000
END:STANDARD
BEGIN:DAYLIGHT
TZOFFSETFROM:-0500
TZOFFSETTO:-0400
TZNAME:EDT
DTSTART:20270314T070000
END:DAYLIGHT
BEGIN:STANDARD
TZOFFSETFROM:-0400
TZOFFSETTO:-0500
TZNAME:EST
DTSTART:20271107T060000
END:STANDARD
END:VTIMEZONE
BEGIN:VEVENT
DTSTART;TZID=America/New_York:20260509T100000
DTEND;TZID=America/New_York:20260509T120000
DTSTAMP:20260424T142135
CREATED:20260408T150930Z
LAST-MODIFIED:20260408T154253Z
UID:10035415-1778320800-1778328000@wjtl.com
SUMMARY:Shred Day at Oregon Dairy
DESCRIPTION:Shred Day is a free event sponsored by Regal Wealth Advisors and Oregon Dairy. Save your old paper documents and shred them at our mobile shredding trucks!\nFor ease of handling\, put your papers you want shredded in cardboard boxes so they are easy to hand off to the shred attendants. Then you can watch them put your boxes in the shredder.\nProtect yourself from identity theft and help save the environment! In order to keep the line moving\, please keep it to under 10 boxes per vehicle.\nIf you would like to make a donation\, we will be accepting non-perishable foods to benefit Power Packs Project! Donations are not required\, but appreciated.\nShred Day 2026: Happening Saturday\, May 9th from 10am – 12noon at the edge of the parking lot by our Lawn & Garden Department.\nIn the Oregon Dairy parking lot: 2900 Oregon Pike Lititz\, PA 17543\nJoe’s Famous Wings Food Truck will be on site from 10am – 5pm. 🍗 Shred your old documents and grab a delicious bite to eat
URL:https://wjtl.com/event/shred-day-at-oregon-dairy/
LOCATION:Oregon Dairy\, 2900 Oregon Pike\, Lititz\, PA\, 17543\, United States
CATEGORIES:Community Events
ATTACH;FMTTYPE=image/jpeg:https://wjtl.com/wp-content/uploads/2026/04/2026-Shred-Day-Facebook-Event-Cover.jpg
END:VEVENT
BEGIN:VEVENT
DTSTART;TZID=America/New_York:20260523T080000
DTEND;TZID=America/New_York:20260523T120000
DTSTAMP:20260424T142135
CREATED:20260408T144803Z
LAST-MODIFIED:20260408T154133Z
UID:10035414-1779523200-1779537600@wjtl.com
SUMMARY:Oregon Dairy's Annual Car Show
DESCRIPTION:Join us for the 22nd Annual Country Cruise & Fireman’s Festival Car Show!\n100% of the proceeds benefit West Earl Fire Co.\nFirst 100 registered vehicles receive a goodie bag & dash plaque.\nStreet Rods\, Classics\, Bikes\, Trucks\, Antiques Welcome.\nDoor prizes • Fireman’s Choice & Participant’s Choice Awards.\nLive music from the band ‘Forgiven’\nJoe’s Famous Wings & Wieners Food Truck\nKids’ Fire Engine Rides – fee\nStart the morning with Pancakes on the Deck!\nSaturday\, May 23 & Monday\, May 25th from 7am – 11am.\nBreakfast includes: 2 hot off the griddle buttermilk pancakes\, 2 sausage links\, choice of Oregon Dairy white milk\, chocolate milk\, orange juice\, or coffee! All for Only $6.00! Take-Outs Available. Cash or Card.
URL:https://wjtl.com/event/oregon-dairys-annual-car-show/
LOCATION:Oregon Dairy\, 2900 Oregon Pike\, Lititz\, PA\, 17543\, United States
CATEGORIES:Community Events
ATTACH;FMTTYPE=image/png:https://wjtl.com/wp-content/uploads/2026/04/2026-facebook-event-cover-Car-Show.png
END:VEVENT
END:VCALENDAR