BEGIN:VCALENDAR
VERSION:2.0
PRODID:-//WJTL FM 90.3 - Christ. Community. Music. - ECPv6.15.20//NONSGML v1.0//EN
CALSCALE:GREGORIAN
METHOD:PUBLISH
X-ORIGINAL-URL:https://wjtl.com
X-WR-CALDESC:Events for WJTL FM 90.3 - Christ. Community. Music.
REFRESH-INTERVAL;VALUE=DURATION:PT1H
X-Robots-Tag:noindex
X-PUBLISHED-TTL:PT1H
BEGIN:VTIMEZONE
TZID:America/New_York
BEGIN:DAYLIGHT
TZOFFSETFROM:-0500
TZOFFSETTO:-0400
TZNAME:EDT
DTSTART:20240310T070000
END:DAYLIGHT
BEGIN:STANDARD
TZOFFSETFROM:-0400
TZOFFSETTO:-0500
TZNAME:EST
DTSTART:20241103T060000
END:STANDARD
BEGIN:DAYLIGHT
TZOFFSETFROM:-0500
TZOFFSETTO:-0400
TZNAME:EDT
DTSTART:20250309T070000
END:DAYLIGHT
BEGIN:STANDARD
TZOFFSETFROM:-0400
TZOFFSETTO:-0500
TZNAME:EST
DTSTART:20251102T060000
END:STANDARD
BEGIN:DAYLIGHT
TZOFFSETFROM:-0500
TZOFFSETTO:-0400
TZNAME:EDT
DTSTART:20260308T070000
END:DAYLIGHT
BEGIN:STANDARD
TZOFFSETFROM:-0400
TZOFFSETTO:-0500
TZNAME:EST
DTSTART:20261101T060000
END:STANDARD
END:VTIMEZONE
BEGIN:VEVENT
DTSTART;TZID=America/New_York:20250913T130000
DTEND;TZID=America/New_York:20250913T170000
DTSTAMP:20260421T044500
CREATED:20250817T011907Z
LAST-MODIFIED:20250818T123945Z
UID:10034300-1757768400-1757782800@wjtl.com
SUMMARY:The Promised Land Camp 50 year anniversary celebration
DESCRIPTION:On Saturday\, September 13\, from 1 p.m. to 5 p.m.\, the Promised Land Camp at 220 Boyscout Road\, Conestoga\, will celebrate 50 years of Christian camping. There will be hayrides\, pony rides\, and zipline rides. The snack shop will be open for snacks and camp merchandise. There will also be a display of pictures from the 50 years.
URL:https://wjtl.com/event/the-promised-land-camp-50-year-anniversary-celebration/
LOCATION:Promised Land Camp\, 220 Boyscout Rd\, Conestoga\, Pa\, 17516
CATEGORIES:Community Events
END:VEVENT
END:VCALENDAR