BEGIN:VCALENDAR
VERSION:2.0
PRODID:-//WJTL FM 90.3 - Christ. Community. Music. - ECPv6.15.20//NONSGML v1.0//EN
CALSCALE:GREGORIAN
METHOD:PUBLISH
X-ORIGINAL-URL:https://wjtl.com
X-WR-CALDESC:Events for WJTL FM 90.3 - Christ. Community. Music.
REFRESH-INTERVAL;VALUE=DURATION:PT1H
X-Robots-Tag:noindex
X-PUBLISHED-TTL:PT1H
BEGIN:VTIMEZONE
TZID:America/New_York
BEGIN:DAYLIGHT
TZOFFSETFROM:-0500
TZOFFSETTO:-0400
TZNAME:EDT
DTSTART:20250309T070000
END:DAYLIGHT
BEGIN:STANDARD
TZOFFSETFROM:-0400
TZOFFSETTO:-0500
TZNAME:EST
DTSTART:20251102T060000
END:STANDARD
BEGIN:DAYLIGHT
TZOFFSETFROM:-0500
TZOFFSETTO:-0400
TZNAME:EDT
DTSTART:20260308T070000
END:DAYLIGHT
BEGIN:STANDARD
TZOFFSETFROM:-0400
TZOFFSETTO:-0500
TZNAME:EST
DTSTART:20261101T060000
END:STANDARD
BEGIN:DAYLIGHT
TZOFFSETFROM:-0500
TZOFFSETTO:-0400
TZNAME:EDT
DTSTART:20270314T070000
END:DAYLIGHT
BEGIN:STANDARD
TZOFFSETFROM:-0400
TZOFFSETTO:-0500
TZNAME:EST
DTSTART:20271107T060000
END:STANDARD
END:VTIMEZONE
BEGIN:VEVENT
DTSTART;TZID=America/New_York:20260612T180000
DTEND;TZID=America/New_York:20260612T210000
DTSTAMP:20260424T013423
CREATED:20260409T232735Z
LAST-MODIFIED:20260413T130006Z
UID:10035420-1781287200-1781298000@wjtl.com
SUMMARY:The Great Christian Revival
DESCRIPTION:Come one\, come all! Come as you are! All ages invited to receive hope in life’s challenges. Join community\, families\, and friends. Experience the unity through diversity that is possible. Join us for free food\, music\, prayer\, and testimonies at The Lion’s Lot in Rehrersburg\, PA at the address listed above. Bring your own chair and sit awhile! Gate will open at 5pm.\nFind the joy\, love\, and fellowship available only through this source
URL:https://wjtl.com/event/the-great-christian-revival/
LOCATION:Rehrersburg Lion’s Park\, 1 Lions Park Dr\, Rehrersburg\, Pa\, 19550
CATEGORIES:Community Events
ATTACH;FMTTYPE=image/jpeg:https://wjtl.com/wp-content/uploads/2026/04/Flyer.jpeg
END:VEVENT
END:VCALENDAR