BEGIN:VCALENDAR
VERSION:2.0
PRODID:-//WJTL FM 90.3 - Christ. Community. Music. - ECPv6.15.20//NONSGML v1.0//EN
CALSCALE:GREGORIAN
METHOD:PUBLISH
X-WR-CALNAME:WJTL FM 90.3 - Christ. Community. Music.
X-ORIGINAL-URL:https://wjtl.com
X-WR-CALDESC:Events for WJTL FM 90.3 - Christ. Community. Music.
REFRESH-INTERVAL;VALUE=DURATION:PT1H
X-Robots-Tag:noindex
X-PUBLISHED-TTL:PT1H
BEGIN:VTIMEZONE
TZID:America/New_York
BEGIN:DAYLIGHT
TZOFFSETFROM:-0500
TZOFFSETTO:-0400
TZNAME:EDT
DTSTART:20250309T070000
END:DAYLIGHT
BEGIN:STANDARD
TZOFFSETFROM:-0400
TZOFFSETTO:-0500
TZNAME:EST
DTSTART:20251102T060000
END:STANDARD
BEGIN:DAYLIGHT
TZOFFSETFROM:-0500
TZOFFSETTO:-0400
TZNAME:EDT
DTSTART:20260308T070000
END:DAYLIGHT
BEGIN:STANDARD
TZOFFSETFROM:-0400
TZOFFSETTO:-0500
TZNAME:EST
DTSTART:20261101T060000
END:STANDARD
BEGIN:DAYLIGHT
TZOFFSETFROM:-0500
TZOFFSETTO:-0400
TZNAME:EDT
DTSTART:20270314T070000
END:DAYLIGHT
BEGIN:STANDARD
TZOFFSETFROM:-0400
TZOFFSETTO:-0500
TZNAME:EST
DTSTART:20271107T060000
END:STANDARD
END:VTIMEZONE
BEGIN:VEVENT
DTSTART;TZID=America/New_York:20260411T083000
DTEND;TZID=America/New_York:20260411T123000
DTSTAMP:20260421T123342
CREATED:20260129T180904Z
LAST-MODIFIED:20260129T181039Z
UID:10035069-1775896200-1775910600@wjtl.com
SUMMARY:Understanding Our Times and the Biblical Path Forward Conference
DESCRIPTION:“ And from Issachar\, men who understood the times and knew what Israel should do…” 1 Chronicles 12:32 \nUnderstanding Our Times and the Biblical Way Forward is Dr. Tackett’s most recent Biblical worldview conference. Drawn from a livestream series (7 Threats in Our Culture) and his latest video small group study (The Engagement Project)\, Dr. Tackett shows us from the Scripture what we are seeing play out in our culture today as we rapidly depart from Biblical foundations and exchange the Truth of God for a host of lies. You will gain a deeper understanding of the primary battlegrounds in our culture: from the family to the church\, work and government. We will seek to gaze upon the crown jewel in the nature of God and His vision for His people. We will contemplate what could well be the only Biblical way forward in our times—one that was followed for the first 200 years of the Church before we tragically set it aside. \nJoin us for this special time as we seek to gain Biblical insight into the times in which we find ourselves\, and therefore\, like the sons of Issachar\, understand what the people of God should do.
URL:https://wjtl.com/event/understanding-our-times-and-the-biblical-path-forward-conference/
LOCATION:Reich’s E.C. Church\, 338 Stackstown Road\, Marietta\, PA\, 17547\, United States
CATEGORIES:Community Events
END:VEVENT
END:VCALENDAR