BEGIN:VCALENDAR
VERSION:2.0
PRODID:-//WJTL FM 90.3 - Christ. Community. Music. - ECPv6.15.20//NONSGML v1.0//EN
CALSCALE:GREGORIAN
METHOD:PUBLISH
X-ORIGINAL-URL:https://wjtl.com
X-WR-CALDESC:Events for WJTL FM 90.3 - Christ. Community. Music.
REFRESH-INTERVAL;VALUE=DURATION:PT1H
X-Robots-Tag:noindex
X-PUBLISHED-TTL:PT1H
BEGIN:VTIMEZONE
TZID:America/New_York
BEGIN:DAYLIGHT
TZOFFSETFROM:-0500
TZOFFSETTO:-0400
TZNAME:EDT
DTSTART:20240310T070000
END:DAYLIGHT
BEGIN:STANDARD
TZOFFSETFROM:-0400
TZOFFSETTO:-0500
TZNAME:EST
DTSTART:20241103T060000
END:STANDARD
BEGIN:DAYLIGHT
TZOFFSETFROM:-0500
TZOFFSETTO:-0400
TZNAME:EDT
DTSTART:20250309T070000
END:DAYLIGHT
BEGIN:STANDARD
TZOFFSETFROM:-0400
TZOFFSETTO:-0500
TZNAME:EST
DTSTART:20251102T060000
END:STANDARD
BEGIN:DAYLIGHT
TZOFFSETFROM:-0500
TZOFFSETTO:-0400
TZNAME:EDT
DTSTART:20260308T070000
END:DAYLIGHT
BEGIN:STANDARD
TZOFFSETFROM:-0400
TZOFFSETTO:-0500
TZNAME:EST
DTSTART:20261101T060000
END:STANDARD
END:VTIMEZONE
BEGIN:VEVENT
DTSTART;TZID=America/New_York:20250920T080000
DTEND;TZID=America/New_York:20250920T140000
DTSTAMP:20260422T014949
CREATED:20250818T202636Z
LAST-MODIFIED:20250819T135827Z
UID:10034303-1758355200-1758376800@wjtl.com
SUMMARY:Fall Fest at St. John's Herr Estate in Columbia
DESCRIPTION:The community’s annual Fall Fest returns on Saturday\, September 20\, from 8:00 a.m. to 2:00 p.m. The event features a huge indoor yard sale and bake sale\, all under one roof at St. John’s Herr Estate\, the Luthercare senior living community at 200 Luther Lane\, Columbia. \nThe indoor yard sale will feature a wide variety of collectibles and treasures – such as gently-used books and mixed media\, puzzles\, household items\, home décor\, jewelry\, and more – for a reasonable price. Our talented community bakers are whipping up an array of delectable treats for purchase\, along with chicken corn soup\, hot dogs\, sloppy joes\, and beverages. The soup is prepared by the chef at St. John’s Herr Estate and is available to purchase by the bowl or quart\, for eat-in or take-out. Admission and parking are free. Cash only accepted. \nFall Fest is sponsored by St. John’s Herr Estate’s Residents’ Council. Proceeds from the Council’s fundraisers are donated to local not-for-profit organizations. For more information\, call 717.684.0678.
URL:https://wjtl.com/event/fall-fest-at-st-johns-herr-estate-in-columbia/
LOCATION:St. John’s Herr Estate\, 200 Luther Ln\, Columbia\, PA\, 17512
CATEGORIES:Community Events
END:VEVENT
END:VCALENDAR