BEGIN:VCALENDAR
VERSION:2.0
PRODID:-//WJTL FM 90.3 - Christ. Community. Music. - ECPv6.15.20//NONSGML v1.0//EN
CALSCALE:GREGORIAN
METHOD:PUBLISH
X-ORIGINAL-URL:https://wjtl.com
X-WR-CALDESC:Events for WJTL FM 90.3 - Christ. Community. Music.
REFRESH-INTERVAL;VALUE=DURATION:PT1H
X-Robots-Tag:noindex
X-PUBLISHED-TTL:PT1H
BEGIN:VTIMEZONE
TZID:America/New_York
BEGIN:DAYLIGHT
TZOFFSETFROM:-0500
TZOFFSETTO:-0400
TZNAME:EDT
DTSTART:20240310T070000
END:DAYLIGHT
BEGIN:STANDARD
TZOFFSETFROM:-0400
TZOFFSETTO:-0500
TZNAME:EST
DTSTART:20241103T060000
END:STANDARD
BEGIN:DAYLIGHT
TZOFFSETFROM:-0500
TZOFFSETTO:-0400
TZNAME:EDT
DTSTART:20250309T070000
END:DAYLIGHT
BEGIN:STANDARD
TZOFFSETFROM:-0400
TZOFFSETTO:-0500
TZNAME:EST
DTSTART:20251102T060000
END:STANDARD
BEGIN:DAYLIGHT
TZOFFSETFROM:-0500
TZOFFSETTO:-0400
TZNAME:EDT
DTSTART:20260308T070000
END:DAYLIGHT
BEGIN:STANDARD
TZOFFSETFROM:-0400
TZOFFSETTO:-0500
TZNAME:EST
DTSTART:20261101T060000
END:STANDARD
END:VTIMEZONE
BEGIN:VEVENT
DTSTART;TZID=America/New_York:20250624T100000
DTEND;TZID=America/New_York:20250624T120000
DTSTAMP:20260421T201229
CREATED:20250613T043757Z
LAST-MODIFIED:20250616T123333Z
UID:10033909-1750759200-1750766400@wjtl.com
SUMMARY:Miracle Service
DESCRIPTION:These meetings are for the sick and hurting to have the opportunity to come into Gods presence to receive miracles & healing. Evangelist Joan Pearce was tutored by the daughter and son-in-law of John G Lake.\n(John G Lake was born in 1870… opened a suite of rooms in the Rookery Building in downtown Spokane which eventually became known as the Healing Room. Within a five to six year period there were documented over 100\,000 healings and Spokane was named by a federal government representative as the healthiest city in the world.)
URL:https://wjtl.com/event/miracle-service/
LOCATION:The House of Prayer\, 5430 Davidsburg Rd\, Dover\, Pa\, 17315
CATEGORIES:Community Events
ATTACH;FMTTYPE=image/jpeg:https://wjtl.com/wp-content/uploads/2025/06/JOAN-PEARCE-PRO-PHOTO.jpg
END:VEVENT
END:VCALENDAR