BEGIN:VCALENDAR
VERSION:2.0
PRODID:-//WJTL FM 90.3 - Christ. Community. Music. - ECPv6.15.20//NONSGML v1.0//EN
CALSCALE:GREGORIAN
METHOD:PUBLISH
X-WR-CALNAME:WJTL FM 90.3 - Christ. Community. Music.
X-ORIGINAL-URL:https://wjtl.com
X-WR-CALDESC:Events for WJTL FM 90.3 - Christ. Community. Music.
REFRESH-INTERVAL;VALUE=DURATION:PT1H
X-Robots-Tag:noindex
X-PUBLISHED-TTL:PT1H
BEGIN:VTIMEZONE
TZID:America/New_York
BEGIN:DAYLIGHT
TZOFFSETFROM:-0500
TZOFFSETTO:-0400
TZNAME:EDT
DTSTART:20250309T070000
END:DAYLIGHT
BEGIN:STANDARD
TZOFFSETFROM:-0400
TZOFFSETTO:-0500
TZNAME:EST
DTSTART:20251102T060000
END:STANDARD
BEGIN:DAYLIGHT
TZOFFSETFROM:-0500
TZOFFSETTO:-0400
TZNAME:EDT
DTSTART:20260308T070000
END:DAYLIGHT
BEGIN:STANDARD
TZOFFSETFROM:-0400
TZOFFSETTO:-0500
TZNAME:EST
DTSTART:20261101T060000
END:STANDARD
BEGIN:DAYLIGHT
TZOFFSETFROM:-0500
TZOFFSETTO:-0400
TZNAME:EDT
DTSTART:20270314T070000
END:DAYLIGHT
BEGIN:STANDARD
TZOFFSETFROM:-0400
TZOFFSETTO:-0500
TZNAME:EST
DTSTART:20271107T060000
END:STANDARD
END:VTIMEZONE
BEGIN:VEVENT
DTSTART;TZID=America/New_York:20260312T170000
DTEND;TZID=America/New_York:20260312T170000
DTSTAMP:20260424T132046
CREATED:20260210T203531Z
LAST-MODIFIED:20260212T194215Z
UID:10035127-1773334800-1773334800@wjtl.com
SUMMARY:Lancaster Salvation Army's 2026 Olga Ruth Stratton Scholarship
DESCRIPTION:The Salvation Army Olga Ruth Stratton and Thomas E. Wolf Scholarship funds was established to make it possible for students of low to moderate income households to attend higher education institutions to continue their academic study or to learn a trade specialty. \nFor more details\, and to register: https://forms.office.com/pages/responsepage.aspx?id=YDByf1ysZESjiV8r7UtHc4hntmgEYlxGpCW1FNE1-mxUN0taOTI4V1M5SzZJWlpFNlJKUjVLS0dINC4u&origin=lprLink&route=shorturl
URL:https://wjtl.com/event/2026-olga-ruth-stratton-scholarship/2026-03-12/
LOCATION:The Salvation Army Lancaster\, 131 S. Queen St.\, Lancaster\, PA\, 17603
CATEGORIES:Community Events
ATTACH;FMTTYPE=image/jpeg:https://wjtl.com/wp-content/uploads/2026/02/618689458_1380646374108014_6438692631107673885_n.jpg
END:VEVENT
BEGIN:VEVENT
DTSTART;TZID=America/New_York:20260305T170000
DTEND;TZID=America/New_York:20260305T170000
DTSTAMP:20260424T132046
CREATED:20260210T203531Z
LAST-MODIFIED:20260212T194215Z
UID:10035126-1772730000-1772730000@wjtl.com
SUMMARY:Lancaster Salvation Army's 2026 Olga Ruth Stratton Scholarship
DESCRIPTION:The Salvation Army Olga Ruth Stratton and Thomas E. Wolf Scholarship funds was established to make it possible for students of low to moderate income households to attend higher education institutions to continue their academic study or to learn a trade specialty. \nFor more details\, and to register: https://forms.office.com/pages/responsepage.aspx?id=YDByf1ysZESjiV8r7UtHc4hntmgEYlxGpCW1FNE1-mxUN0taOTI4V1M5SzZJWlpFNlJKUjVLS0dINC4u&origin=lprLink&route=shorturl
URL:https://wjtl.com/event/2026-olga-ruth-stratton-scholarship/2026-03-05/
LOCATION:The Salvation Army Lancaster\, 131 S. Queen St.\, Lancaster\, PA\, 17603
CATEGORIES:Community Events
ATTACH;FMTTYPE=image/jpeg:https://wjtl.com/wp-content/uploads/2026/02/618689458_1380646374108014_6438692631107673885_n.jpg
END:VEVENT
BEGIN:VEVENT
DTSTART;TZID=America/New_York:20260226T170000
DTEND;TZID=America/New_York:20260226T170000
DTSTAMP:20260424T132046
CREATED:20260210T203531Z
LAST-MODIFIED:20260212T194215Z
UID:10035125-1772125200-1772125200@wjtl.com
SUMMARY:Lancaster Salvation Army's 2026 Olga Ruth Stratton Scholarship
DESCRIPTION:The Salvation Army Olga Ruth Stratton and Thomas E. Wolf Scholarship funds was established to make it possible for students of low to moderate income households to attend higher education institutions to continue their academic study or to learn a trade specialty. \nFor more details\, and to register: https://forms.office.com/pages/responsepage.aspx?id=YDByf1ysZESjiV8r7UtHc4hntmgEYlxGpCW1FNE1-mxUN0taOTI4V1M5SzZJWlpFNlJKUjVLS0dINC4u&origin=lprLink&route=shorturl
URL:https://wjtl.com/event/2026-olga-ruth-stratton-scholarship/2026-02-26/
LOCATION:The Salvation Army Lancaster\, 131 S. Queen St.\, Lancaster\, PA\, 17603
CATEGORIES:Community Events
ATTACH;FMTTYPE=image/jpeg:https://wjtl.com/wp-content/uploads/2026/02/618689458_1380646374108014_6438692631107673885_n.jpg
END:VEVENT
BEGIN:VEVENT
DTSTART;TZID=America/New_York:20260219T170000
DTEND;TZID=America/New_York:20260219T170000
DTSTAMP:20260424T132046
CREATED:20260210T203531Z
LAST-MODIFIED:20260212T194215Z
UID:10035124-1771520400-1771520400@wjtl.com
SUMMARY:Lancaster Salvation Army's 2026 Olga Ruth Stratton Scholarship
DESCRIPTION:The Salvation Army Olga Ruth Stratton and Thomas E. Wolf Scholarship funds was established to make it possible for students of low to moderate income households to attend higher education institutions to continue their academic study or to learn a trade specialty. \nFor more details\, and to register: https://forms.office.com/pages/responsepage.aspx?id=YDByf1ysZESjiV8r7UtHc4hntmgEYlxGpCW1FNE1-mxUN0taOTI4V1M5SzZJWlpFNlJKUjVLS0dINC4u&origin=lprLink&route=shorturl
URL:https://wjtl.com/event/2026-olga-ruth-stratton-scholarship/2026-02-19/
LOCATION:The Salvation Army Lancaster\, 131 S. Queen St.\, Lancaster\, PA\, 17603
CATEGORIES:Community Events
ATTACH;FMTTYPE=image/jpeg:https://wjtl.com/wp-content/uploads/2026/02/618689458_1380646374108014_6438692631107673885_n.jpg
END:VEVENT
BEGIN:VEVENT
DTSTART;TZID=America/New_York:20260212T170000
DTEND;TZID=America/New_York:20260212T170000
DTSTAMP:20260424T132046
CREATED:20260210T203531Z
LAST-MODIFIED:20260212T194215Z
UID:10035123-1770915600-1770915600@wjtl.com
SUMMARY:Lancaster Salvation Army's 2026 Olga Ruth Stratton Scholarship
DESCRIPTION:The Salvation Army Olga Ruth Stratton and Thomas E. Wolf Scholarship funds was established to make it possible for students of low to moderate income households to attend higher education institutions to continue their academic study or to learn a trade specialty. \nFor more details\, and to register: https://forms.office.com/pages/responsepage.aspx?id=YDByf1ysZESjiV8r7UtHc4hntmgEYlxGpCW1FNE1-mxUN0taOTI4V1M5SzZJWlpFNlJKUjVLS0dINC4u&origin=lprLink&route=shorturl
URL:https://wjtl.com/event/2026-olga-ruth-stratton-scholarship/2026-02-12/
LOCATION:The Salvation Army Lancaster\, 131 S. Queen St.\, Lancaster\, PA\, 17603
CATEGORIES:Community Events
ATTACH;FMTTYPE=image/jpeg:https://wjtl.com/wp-content/uploads/2026/02/618689458_1380646374108014_6438692631107673885_n.jpg
END:VEVENT
END:VCALENDAR