BEGIN:VCALENDAR
VERSION:2.0
PRODID:-//WJTL FM 90.3 - Christ. Community. Music. - ECPv6.15.20//NONSGML v1.0//EN
CALSCALE:GREGORIAN
METHOD:PUBLISH
X-ORIGINAL-URL:https://wjtl.com
X-WR-CALDESC:Events for WJTL FM 90.3 - Christ. Community. Music.
REFRESH-INTERVAL;VALUE=DURATION:PT1H
X-Robots-Tag:noindex
X-PUBLISHED-TTL:PT1H
BEGIN:VTIMEZONE
TZID:America/New_York
BEGIN:DAYLIGHT
TZOFFSETFROM:-0500
TZOFFSETTO:-0400
TZNAME:EDT
DTSTART:20250309T070000
END:DAYLIGHT
BEGIN:STANDARD
TZOFFSETFROM:-0400
TZOFFSETTO:-0500
TZNAME:EST
DTSTART:20251102T060000
END:STANDARD
BEGIN:DAYLIGHT
TZOFFSETFROM:-0500
TZOFFSETTO:-0400
TZNAME:EDT
DTSTART:20260308T070000
END:DAYLIGHT
BEGIN:STANDARD
TZOFFSETFROM:-0400
TZOFFSETTO:-0500
TZNAME:EST
DTSTART:20261101T060000
END:STANDARD
BEGIN:DAYLIGHT
TZOFFSETFROM:-0500
TZOFFSETTO:-0400
TZNAME:EDT
DTSTART:20270314T070000
END:DAYLIGHT
BEGIN:STANDARD
TZOFFSETFROM:-0400
TZOFFSETTO:-0500
TZNAME:EST
DTSTART:20271107T060000
END:STANDARD
END:VTIMEZONE
BEGIN:VEVENT
DTSTART;TZID=America/New_York:20260416T180000
DTEND;TZID=America/New_York:20260416T201500
DTSTAMP:20260424T102316
CREATED:20260320T150234Z
LAST-MODIFIED:20260323T185012Z
UID:10035351-1776362400-1776370500@wjtl.com
SUMMARY:Walking Where Jesus is Still Working - ServeNow Annual Banquet
DESCRIPTION:On April 16\, we’ll gather to stand at the crossroads — to look\, to listen\, and to witness how God is moving even in places of hardship. After a delicious dinner\, you will meet Edoxia Botros\, our boots-on-the-ground partner who witnesses God moving in ways more powerful than we can imagine. \n“Stand at the crossroads and look; ask for the ancient paths\,\nask where the good way is\, and walk in it\,\nand you will find rest for your souls.”\n— Jeremiah 6:16 \nJoin us for an evening of powerful updates\, firsthand stories\, and a glimpse into lives being changed by faith in action. \nYou are welcome to invite your family and friends to fill a table — each table seats eight! Seating is limited to those 18 and older. Please RSVP by Monday\, April 6th\, 2026.
URL:https://wjtl.com/event/walking-where-jesus-is-still-working-servenow-annual-banquet/
LOCATION:The Willows at Historic Strasburg\, 1500 Historic Dr\, Srausburg\, Pa\, 17579
CATEGORIES:Community Events
ATTACH;FMTTYPE=image/png:https://wjtl.com/wp-content/uploads/2026/03/Screenshot-2026-03-20-104340.png
END:VEVENT
END:VCALENDAR