BEGIN:VCALENDAR
VERSION:2.0
PRODID:-//WJTL FM 90.3 - Christ. Community. Music. - ECPv6.15.20//NONSGML v1.0//EN
CALSCALE:GREGORIAN
METHOD:PUBLISH
X-WR-CALNAME:WJTL FM 90.3 - Christ. Community. Music.
X-ORIGINAL-URL:https://wjtl.com
X-WR-CALDESC:Events for WJTL FM 90.3 - Christ. Community. Music.
REFRESH-INTERVAL;VALUE=DURATION:PT1H
X-Robots-Tag:noindex
X-PUBLISHED-TTL:PT1H
BEGIN:VTIMEZONE
TZID:America/New_York
BEGIN:DAYLIGHT
TZOFFSETFROM:-0500
TZOFFSETTO:-0400
TZNAME:EDT
DTSTART:20240310T070000
END:DAYLIGHT
BEGIN:STANDARD
TZOFFSETFROM:-0400
TZOFFSETTO:-0500
TZNAME:EST
DTSTART:20241103T060000
END:STANDARD
BEGIN:DAYLIGHT
TZOFFSETFROM:-0500
TZOFFSETTO:-0400
TZNAME:EDT
DTSTART:20250309T070000
END:DAYLIGHT
BEGIN:STANDARD
TZOFFSETFROM:-0400
TZOFFSETTO:-0500
TZNAME:EST
DTSTART:20251102T060000
END:STANDARD
BEGIN:DAYLIGHT
TZOFFSETFROM:-0500
TZOFFSETTO:-0400
TZNAME:EDT
DTSTART:20260308T070000
END:DAYLIGHT
BEGIN:STANDARD
TZOFFSETFROM:-0400
TZOFFSETTO:-0500
TZNAME:EST
DTSTART:20261101T060000
END:STANDARD
END:VTIMEZONE
BEGIN:VEVENT
DTSTART;TZID=America/New_York:20250929T160000
DTEND;TZID=America/New_York:20250929T200000
DTSTAMP:20260422T045713
CREATED:20250902T202814Z
LAST-MODIFIED:20250905T223100Z
UID:10034355-1759161600-1759176000@wjtl.com
SUMMARY:Pro Flymart & Signing Event 2025 at Treemagnets
DESCRIPTION:Join us for the 2nd Annual DGPT Pro-Player Flymart & Pro Signing Event! \nCome meet pro players and top vendors for an exciting evening of disc golf fun. Players will be signing autographs and handing out exclusive\, limited-edition items you won’t want to miss. (The final player lineup will be announced after the Maple Hill Tournament.) \nEnjoy great food and drinks from the Cabalar Food Truck\, Soft Pretzel Truck\, and the Elm Tree Café. Browse exclusive merchandise\, enter raffles\, take advantage of special sales\, and more—all happening right in front of the TreeMagnets Disc Golf Pro Store. \nThis is a free event—no tickets or fees required. Click the link below to RSVP and let us know you’re coming. Bring your friends and family for a fantastic night of food\, fun\, and disc golf community spirit. The event is rain or shine\, so mark your calendars and join us!
URL:https://wjtl.com/event/pro-flymart-signing-event-2025-at-treemagnets/
LOCATION:Treemagnets Disc Golf Pro Shop\, 555 Furnace Hills Pk\, Lititz\, PA\, 17543
CATEGORIES:Community Events
ATTACH;FMTTYPE=image/jpeg:https://wjtl.com/wp-content/uploads/2025/09/TM-Flymart-Pro-Signing-FB-SQ-2025-scaled.jpg
END:VEVENT
END:VCALENDAR